BEGIN:VCALENDAR
VERSION:2.0
PRODID:-//wp-events-plugin.com//7.2.3.1//EN
TZID:Europe/Berlin
X-WR-TIMEZONE:Europe/Berlin
BEGIN:VEVENT
UID:3667@lilabi.net
DTSTART;TZID=Europe/Berlin:20220112T190000
DTEND;TZID=Europe/Berlin:20220112T220000
DTSTAMP:20220202T095150Z
URL:https://www.lilabi.net/events/heraus-zum-feministischen-kampftag-demop
 lanung/
SUMMARY:Heraus zum feministischen Kampftag - Demoplanung
DESCRIPTION:HERAUS ZUM FEMINISTISCHEN KAMPFTAG - KOMMT ZUR DEMOPLANUNG\n\nA
 m 8. März ist internationaler feministischer Kampftag. Seit über 100 Jah
 ren kämpfen Frauen und Queers für ihre Rechte. Auch dieses Jahr wollen w
 ir unseren Protst in Bielefeld auf die Straße tragen und organisieren ein
 e Demo. Dazu laden wir alle interessieten FLINTA*s zu einem offenen Planun
 gstreffen ein. Das Treffen findet online statt.\n\nWann? 12.01.2022 um 1
 9:00 Uhr\nWo? https://uni-bielefeld.zoom.us/j/99131174314?pwd=cDcyeitxTG01
 QjlieUNDRS95OWxmQT09 (Meeting-ID: 991 3117 4314 Passwort: 318744)\n\nWir f
 reuen uns auf euch.\nEuer Frauen und Queer Streik Bielefeld
CATEGORIES:Austausch/Vernetzung
END:VEVENT
BEGIN:VTIMEZONE
TZID:Europe/Berlin
X-LIC-LOCATION:Europe/Berlin
BEGIN:STANDARD
DTSTART:20211031T020000
TZOFFSETFROM:+0200
TZOFFSETTO:+0100
TZNAME:CET
END:STANDARD
END:VTIMEZONE
END:VCALENDAR