BEGIN:VCALENDAR
VERSION:2.0
PRODID:-//wp-events-plugin.com//7.2.3.1//EN
TZID:Europe/Berlin
X-WR-TIMEZONE:Europe/Berlin
BEGIN:VEVENT
UID:6394@lilabi.net
DTSTART;TZID=Europe/Berlin:20251031T200000
DTEND;TZID=Europe/Berlin:20251031T200000
DTSTAMP:20250915T115826Z
URL:https://www.lilabi.net/events/halloween-soul-ska/
SUMMARY:Halloween Soul &amp\; Ska
DESCRIPTION:Wie bereits im letzten Jahr haben wir eine Northern Soulband zu
  Gast\, wollen aber auch die Liebhaber*innen des Ska nicht zu kurz kommen 
 lassen.\n\nDeshalb beginnt der Abend mit King π &amp\; the Skayards\, ein
 er Band aus Osnabrück deren vier Musiker sich dem Ska und seinen wunderba
 ren Varianten verschrieben haben. Sie wissen 2Tone Hits wie Monkey Man\, M
 urder und Skinheadreggae Hits zu zelebrieren. Man wagt sich aber auch an V
 ersionen von Django Reinhardt oder Kurt Weils Vertonungen von Brecht Texte
 n. Für wen das zu viel Kultur ist\, feiert einfach bei den 2Tone und ande
 ren Ska und Rocksteady Hits mit und lässt sich von der ungewöhnlichen Be
 setzung\, Drums\, Bass\, Gitarre und Blockflöte - ja\, genau Blockflöte 
 - mit auf die wunderbare Reise in die Welt des Offbeats entführen.\n\nThe
  Originators aus Amsterdam haben sich seit ihrer Gründung im Jahr 2013 de
 m Northern Soul (aber auch dem Ska und Rocksteady) der 60er Jahre verschri
 eben. Zu dieser Zeit entstand in (Nord-)England die Jugendsubkultur der Mo
 ds\, die rauere\, unverfälschte und seltenere Stücke der schwarzen Soulm
 usik favorisierten und dazu in legendären Clubs – wie z.B. dem Wigan Ca
 sino\, dem Blackpool Mecca oder dem Twisted Wheel in Manchester – bei so
 g. Allnightern oder Weekendern ganze Nächte oder eben ganze Wochenenden d
 urchtanzten.\nDie 9-köpfige Band bringt dieses Northern-Soul-Feeling in u
 nsere Zeit und nennt sich zu Recht „The new generation of Northern Soul
 “. Durch treibende Beats\, fette Bläser- Sounds und der Soul-Stimme der
  energiegeladenen Frontfrau entstehen bestens tanzbare Songs mit Gute-Laun
 e-Garantie! `Hip-shaking-Earth-quaking-Breath-taking-Groove-making´ Rhyth
 m and Soul!\nNach dem Konzert geht es weiter mit Northern Soul\, R&amp\;B\
 , Ska &amp\; Reggae\, Modsound und ein paar all-time favourites von den Pl
 attentellern der\nDJ´s Jake Haking (Halle/Saale) und Upsetter (HH)\nEinla
 ss ab 20:00 Uhr – Konzert 21:00 Uhr – Auflegen ab ca. 0:00 Uhr
ATTACH;FMTTYPE=image/jpeg:https://www.lilabi.net/wp-content/uploads/2025/0
 9/The-Originators-2025-1-1.jpg
CATEGORIES:Konzert,Party
LOCATION:AJZ Bielefeld\, Heeper Str. 132\, 33607 Bielefeld\, Deutschland
X-APPLE-STRUCTURED-LOCATION;VALUE=URI;X-ADDRESS=Heeper Str. 132\, 33607 Bie
 lefeld\, Deutschland;X-APPLE-RADIUS=100;X-TITLE=AJZ Bielefeld:geo:0,0
END:VEVENT
BEGIN:VTIMEZONE
TZID:Europe/Berlin
X-LIC-LOCATION:Europe/Berlin
BEGIN:STANDARD
DTSTART:20251026T020000
TZOFFSETFROM:+0200
TZOFFSETTO:+0100
TZNAME:CET
END:STANDARD
END:VTIMEZONE
END:VCALENDAR