BEGIN:VCALENDAR
VERSION:2.0
PRODID:-//wp-events-plugin.com//7.2.3.1//EN
TZID:Europe/Berlin
X-WR-TIMEZONE:Europe/Berlin
BEGIN:VEVENT
UID:4449@lilabi.net
DTSTART;TZID=Europe/Berlin:20221031T220000
DTEND;TZID=Europe/Berlin:20221031T234500
DTSTAMP:20221022T150909Z
URL:https://www.lilabi.net/events/halloween-party/
SUMMARY:Halloween Party
DESCRIPTION:Keine Lust auf gruselige Leute? Keine Lust auf gruselige Musik?
  Keine Lust auf gruseliges Wetter? Dann kommt Halloween ins AJZ! Tolle Men
 schen\, Musik von Ska und Punk bis Pop und Trash - und womöglich sogar gu
 tes Wetter...\n\nMacht bitte vorher einen Selbsttest oder lasst euch teste
 n - vielen Dank!
ATTACH;FMTTYPE=image/jpeg:https://www.lilabi.net/wp-content/uploads/2022/1
 0/halloween_lila.jpg
CATEGORIES:Party
LOCATION:AJZ Bielefeld\, Heeper Str. 132\, 33607 Bielefeld\, Deutschland
X-APPLE-STRUCTURED-LOCATION;VALUE=URI;X-ADDRESS=Heeper Str. 132\, 33607 Bie
 lefeld\, Deutschland;X-APPLE-RADIUS=100;X-TITLE=AJZ Bielefeld:geo:0,0
END:VEVENT
BEGIN:VTIMEZONE
TZID:Europe/Berlin
X-LIC-LOCATION:Europe/Berlin
BEGIN:STANDARD
DTSTART:20221030T020000
TZOFFSETFROM:+0200
TZOFFSETTO:+0100
TZNAME:CET
END:STANDARD
END:VTIMEZONE
END:VCALENDAR