BEGIN:VCALENDAR
VERSION:2.0
PRODID:-//wp-events-plugin.com//7.2.3.1//EN
TZID:Europe/Berlin
X-WR-TIMEZONE:Europe/Berlin
BEGIN:VEVENT
UID:4444@lilabi.net
DTSTART;TZID=Europe/Berlin:20221020T180000
DTEND;TZID=Europe/Berlin:20221020T213000
DTSTAMP:20221018T143442Z
URL:https://www.lilabi.net/events/give-away-party-verschenkparty/
SUMMARY:Give Away Party // Verschenkparty
DESCRIPTION:Give away party at Open Gallery!\n\nOn 20th October we open our
  doors together with @linkersemesterstartbielefeld. You can get to know l
 eftist groups in the university and from the city. There will be drinks\, 
 nice atmosphere and Café Exil Dance Playlist :) Come by and bring your pr
 eloved belonging and get some new clothes\, books and connections. We are 
 looking forward to see you!
ATTACH;FMTTYPE=image/jpeg:https://www.lilabi.net/wp-content/uploads/2022/1
 0/2.png
LOCATION:Universität Bielefeld Café Exil C1-168\, Universitätsstr. 25\, 
 Bielefeld\, Deutschland
X-APPLE-STRUCTURED-LOCATION;VALUE=URI;X-ADDRESS=Universitätsstr. 25\, Biel
 efeld\, Deutschland;X-APPLE-RADIUS=100;X-TITLE=Universität Bielefeld Caf
 é Exil C1-168:geo:0,0
END:VEVENT
BEGIN:VTIMEZONE
TZID:Europe/Berlin
X-LIC-LOCATION:Europe/Berlin
BEGIN:DAYLIGHT
DTSTART:20220327T030000
TZOFFSETFROM:+0100
TZOFFSETTO:+0200
TZNAME:CEST
END:DAYLIGHT
END:VTIMEZONE
END:VCALENDAR