BEGIN:VCALENDAR
VERSION:2.0
PRODID:-//wp-events-plugin.com//7.2.3.1//EN
TZID:Europe/Berlin
X-WR-TIMEZONE:Europe/Berlin
BEGIN:VEVENT
UID:2737@lilabi.net
DTSTART;TZID=Europe/Berlin:20191012T190000
DTEND;TZID=Europe/Berlin:20191012T210000
DTSTAMP:20190929T093818Z
URL:https://www.lilabi.net/events/gioconda-belli-lesung-und-diskussion-has
 ta-que-seamos-libres-bis-dass-wir-frei-sind/
SUMMARY:Gioconda Belli - Lesung und Diskussion - Hasta que seamos libres - 
 Bis dass wir frei sind
DESCRIPTION:Ich werde nicht sterben\, ohne das befreite Land zu sehen - sel
 bstbewusst und mit klarem Blick spricht die nicaraguanische Autorin Giocon
 da Belli über die aktuelle politische Situation ihres Heimatlandes und st
 eht dabei dem aktuellen Präsidenten Ortega deutlich kritisch gegenüber.\
 n\nDie ehemalige Anhängerin der Sandinistischen Nationalen Befreiungsfron
 t will durch ihre Beiträge das Publikum auf dieses hochbrisante Thema auf
 merksam machen und die Notwendigkeit des Handelns aufzeigen.\n\nSie trägt
  zudem aktuelle und unveröffentlichte Gedichte vor\, die sich auf diese S
 ituation beziehen. Das Programm bietet eine besonders spannende Verbindung
  von Literatur und Politik: die Lesung eigener literarischen Texte wird mi
 t brisanten Berichten und Analysen zur aktuellen Situation in Nicaragua ko
 mbiniert. Das Programm bietet Raum für Fragen und zur Diskussion.
ATTACH;FMTTYPE=image/jpeg:https://www.lilabi.net/wp-content/uploads/2019/0
 9/Gioconda_Belli_3.jpg
CATEGORIES:Lesung
LOCATION:Süsterkirche\, Güsenstraße 22\, 33602 Bielefeld\, Deutschland
X-APPLE-STRUCTURED-LOCATION;VALUE=URI;X-ADDRESS=Güsenstraße 22\, 33602 Bi
 elefeld\, Deutschland;X-APPLE-RADIUS=100;X-TITLE=Süsterkirche:geo:0,0
END:VEVENT
BEGIN:VTIMEZONE
TZID:Europe/Berlin
X-LIC-LOCATION:Europe/Berlin
BEGIN:DAYLIGHT
DTSTART:20190331T030000
TZOFFSETFROM:+0100
TZOFFSETTO:+0200
TZNAME:CEST
END:DAYLIGHT
END:VTIMEZONE
END:VCALENDAR