BEGIN:VCALENDAR
VERSION:2.0
PRODID:-//wp-events-plugin.com//7.2.3.1//EN
TZID:Europe/Berlin
X-WR-TIMEZONE:Europe/Berlin
BEGIN:VEVENT
UID:3202@lilabi.net
DTSTART;TZID=Europe/Berlin:20201105T180000
DTEND;TZID=Europe/Berlin:20201105T200000
DTSTAMP:20200615T082333Z
URL:https://www.lilabi.net/events/gewerkschaftliche-erstberatung-und-cafe-
 2020-11-05/
SUMMARY:Gewerkschaftliche Erstberatung und Café
DESCRIPTION:&nbsp\;\n\nKonflikte am Arbeitsplatz und kein Land in Sicht?\n\
 nDu hast Probleme im Job oder auf dem Amt und brauchst Unterstützung? Bei
  der gewerkschaflichen Beratung helfen wir dir gerne weiter! Am besten mel
 dest du dich vorher per Mail an\, dann können wir uns schon auf dich eins
 tellen. Ein spontaner Besuch ist aber auch möglich. Bring – wenn mögli
 ch – wichtige Unterlagen\, wie Arbeitsvertrag oder Gehaltsabrechnungen m
 it. Gemeinsam entwickeln wir Strategien\, wie wir deine Interessen im Betr
 ieb gemeinschaftlich und gewerkschaftlich durchsetzen können. Denn nicht 
 vereinzelt\, sondern nur zusammen sind wir stark!\n\nGewerkschaftliche Ber
 atung im FAU - Lokal:\njeden ersten Donnerstag im Monat von 18 - 20 Uhr un
 d nach\nVereinbarung\n\nMAIL: faubi-beratung@fau.org\n\nMehr Info: http://
 bielefeld.fau.org/gewerkschaftlicheerstberatung/
ATTACH;FMTTYPE=image/jpeg:https://www.lilabi.net/wp-content/uploads/2020/0
 5/Donnerstagsberatung.jpg
CATEGORIES:Sonstiges
LOCATION:\, \, 
X-APPLE-STRUCTURED-LOCATION;VALUE=URI;X-ADDRESS=\, ;X-APPLE-RADIUS=100;X-TI
 TLE=:geo:0,0
END:VEVENT
BEGIN:VTIMEZONE
TZID:Europe/Berlin
X-LIC-LOCATION:Europe/Berlin
BEGIN:STANDARD
DTSTART:20201025T020000
TZOFFSETFROM:+0200
TZOFFSETTO:+0100
TZNAME:CET
END:STANDARD
END:VTIMEZONE
END:VCALENDAR