BEGIN:VCALENDAR
VERSION:2.0
PRODID:-//wp-events-plugin.com//7.2.3.1//EN
TZID:Europe/Berlin
X-WR-TIMEZONE:Europe/Berlin
BEGIN:VEVENT
UID:3764@lilabi.net
DTSTART;TZID=Europe/Berlin:20221017T160000
DTEND;TZID=Europe/Berlin:20221017T180000
DTSTAMP:20220601T104807Z
URL:https://www.lilabi.net/events/gewerkschaftliche-beratung-cafe-2022-10-
 17/
SUMMARY:Gewerkschaftliche Beratung & Café
DESCRIPTION:Das FAU-Café ist offen für alle\, die mit Problemen in Betrie
 b und Amt zu kämpfen haben. Dies betrifft z.B. ausstehende Löhne\, Schik
 anen oder Kündigungen.\n\nWir entwickeln Strategien\, wie wir gemeinsam D
 eine persönliche Situation im Betrieb oder beim Amt verbessern und Forder
 ungen gewerkschaftlich durchsetzen können.\n\nDas FAU-Café ist auch eine
  Einladung an Menschen\, die miteinander reden\, sich austauschen wollen\,
  über das Berufliche hinaus. Was gibt es sonst noch in Leben\, im Haus\, 
 im Stadtteil\, in der Welt? Oder einfach da sein\, reden\, schweigen\, was
  trinken\, in den Büchern stöbern oder was euch sonst noch so einfällt 
 \;)
ATTACH;FMTTYPE=image/jpeg:https://www.lilabi.net/wp-content/uploads/2022/0
 5/beratung.png
CATEGORIES:Infoveranstaltung
LOCATION:FAU-Lokal\, Metzer Straße 20\, Bielefeld\, Deutschland
X-APPLE-STRUCTURED-LOCATION;VALUE=URI;X-ADDRESS=Metzer Straße 20\, Bielefe
 ld\, Deutschland;X-APPLE-RADIUS=100;X-TITLE=FAU-Lokal:geo:0,0
END:VEVENT
BEGIN:VTIMEZONE
TZID:Europe/Berlin
X-LIC-LOCATION:Europe/Berlin
BEGIN:DAYLIGHT
DTSTART:20220327T030000
TZOFFSETFROM:+0100
TZOFFSETTO:+0200
TZNAME:CEST
END:DAYLIGHT
END:VTIMEZONE
END:VCALENDAR