BEGIN:VCALENDAR
VERSION:2.0
PRODID:-//wp-events-plugin.com//7.2.3.1//EN
TZID:Europe/Berlin
X-WR-TIMEZONE:Europe/Berlin
BEGIN:VEVENT
UID:2978@lilabi.net
DTSTART;TZID=Europe/Berlin:20191208T140000
DTEND;TZID=Europe/Berlin:20191208T180000
DTSTAMP:20191127T161834Z
URL:https://www.lilabi.net/events/gesellschaft-macht-geschlecht-diy-tag-im
 -ajz-mit-mitbringbuffet/
SUMMARY:gesellschaft.macht.geschlecht - DIY-Tag im AJZ mit Mitbringbuffet
DESCRIPTION:DIY heißt „Do It Yourself“ und genau das soll an diesem Ta
 g unser Motto sein. Bei Punsch und\nGlühwein wollen wir gemeinsam in der 
 muckeligen AJZ-Kneipe Basteln\, kreativ sein und uns\nDinge selbst schaffe
 n und aneignen. Das wird es u.a. geben: Buttonmaschine\, Upcycling\, Siebd
 ruck\n(Klamotten bitte mitbringen\, Stoff für Aufnäher ist da)\, Sticker
 \, Stencils\, Karten\, body-positives\nMalen und Window Color!\nAußerdem 
 gibt es die Möglichkeit zum Haare rasieren und Nägel lackieren (Nagellac
 k ist für alle\nda). Wir stellen alk-freien Punsch\, Glühwein\, Kekse un
 d Snacks. Der Rest ist DIY. Wir freuen uns\nüber vegane Beiträge und auf
  dich!\nDer DIY Tag ist offen für Alle und es ist keine Anmeldung nötig.
CATEGORIES:Aktionstage
LOCATION:\, \, 
X-APPLE-STRUCTURED-LOCATION;VALUE=URI;X-ADDRESS=\, ;X-APPLE-RADIUS=100;X-TI
 TLE=:geo:0,0
END:VEVENT
BEGIN:VTIMEZONE
TZID:Europe/Berlin
X-LIC-LOCATION:Europe/Berlin
BEGIN:STANDARD
DTSTART:20191027T020000
TZOFFSETFROM:+0200
TZOFFSETTO:+0100
TZNAME:CET
END:STANDARD
END:VTIMEZONE
END:VCALENDAR