BEGIN:VCALENDAR
VERSION:2.0
PRODID:-//wp-events-plugin.com//7.2.3.1//EN
TZID:Europe/Berlin
X-WR-TIMEZONE:Europe/Berlin
BEGIN:VEVENT
UID:4384@lilabi.net
DTSTART;TZID=Europe/Berlin:20220828T190000
DTEND;TZID=Europe/Berlin:20220828T203000
DTSTAMP:20220817T111713Z
URL:https://www.lilabi.net/events/geschichten-von-hier-wech/
SUMMARY:Geschichten von hier wech
DESCRIPTION:Humorvolle\, unterhaltsame aber auch zum Nachdenken anregende E
 pisoden aus Ostwestfalen präsentieren die Bünder Autoren Kerstin Honerka
 mp und Nicolas Bröggelwirth in ihrem abwechslungsreichen Programm „Gesc
 hichten von hier wech“.\n\nIn ihren Erzählungen richten sich ihre Blick
 e stets mit einem Augenzwinkern und feiner Ironie auf mehr oder weniger wa
 hre\, aber einhundert Prozent typische Begebenheiten\, wie sie fast nur in
  dieser Region spielen können. So wird sich wohl mancher ein Schmunzeln v
 erkneifen müssen und in den amüsanten Geschichten wiederfinden\, in dene
 n unter anderem über walzertanzende Einkaufswagen\, die verkehrte Welt de
 s Parkens\, das Raucherzimmer im Krankenhaus oder von Helikopter-Eltern de
 r 80er-Jahre berichtet wird.\n\nKerstin Honerkamp hat bereits 2007 mit ihr
 em Roman „Zwischen den Stühlen“ debütiert und schreibt Theaterstück
 e für Kinder\, Jugendliche und Erwachsene. Im Herbst wird ihr neuer Roman
  „Platzangst“ erscheinen.\n\nNicolas Bröggelwirth ist Ostwestfale dur
 ch und durch und ausgezeichnet von der Deutschen Hörfunkakademie. Als Gr
 ündungs-Mitglied der Herforder AutorInnen-Gruppe brachte er 2017 ihre ers
 te Anthologie heraus. \n\n Ab September gehen beide Autoren auf eine geme
 insame Lesereise durch OWL.
ATTACH;FMTTYPE=image/jpeg:https://www.lilabi.net/wp-content/uploads/2022/0
 8/Lesung-mit-gleichnamigen-Titel-Plakat-ohne-Datum-bis-1000-pix.jpg
CATEGORIES:Lesung
LOCATION:Rathausplatz\, Rathausplatz\, Bünde\, Deutschland
X-APPLE-STRUCTURED-LOCATION;VALUE=URI;X-ADDRESS=Rathausplatz\, Bünde\, Deu
 tschland;X-APPLE-RADIUS=100;X-TITLE=Rathausplatz:geo:0,0
END:VEVENT
BEGIN:VTIMEZONE
TZID:Europe/Berlin
X-LIC-LOCATION:Europe/Berlin
BEGIN:DAYLIGHT
DTSTART:20220327T030000
TZOFFSETFROM:+0100
TZOFFSETTO:+0200
TZNAME:CEST
END:DAYLIGHT
END:VTIMEZONE
END:VCALENDAR