BEGIN:VCALENDAR
VERSION:2.0
PRODID:-//wp-events-plugin.com//7.2.3.1//EN
TZID:Europe/Berlin
X-WR-TIMEZONE:Europe/Berlin
BEGIN:VEVENT
UID:6450@lilabi.net
DTSTART;TZID=Europe/Berlin:20251114T190000
DTEND;TZID=Europe/Berlin:20251114T210000
DTSTAMP:20251106T155431Z
URL:https://www.lilabi.net/events/gequassel-offener-debattenabend-der-il-b
 ielefeld-im-kulturhaus-rebellische-stadt-meets-kriegstuechtigkeit-wenn-sta
 dtteilplanung-vom-kriegsregime-durchkreuzt-wird/
SUMMARY:Gequassel -  Offener Debattenabend der iL Bielefeld im Kulturhaus  
 "Rebellische Stadt meets Kriegstüchtigkeit - wenn Stadtteilplanung vom Kr
 iegsregime durchkreuzt wird
DESCRIPTION:Gequassel - Offener Debattenabend der iL Bielefeld im Kulturhau
 s\n\n"Rebellische Stadt meets Kriegstüchtigkeit - wenn Stadtteilplanung v
 om Kriegsregime durchkreuzt wird"\n\nNach einem kleinen Input zum Thema m
 öchten wir mit euch ins Gespräch kommen.\nKommt vorbei\, wenn ihr uns un
 d unsere Inhalte kennenlernen\, mit uns diskutieren oder einfach nur zuhö
 ren wollt.\n\nLos geht es am 14.11.25 um 19:00 Uhr im Kulturhaus Ostblock.
 \n\nWir freuen uns auf euch!\n\nWeitere Infos und Aktualisierungen findet 
 ihr bei instagram @il_bielefeld
ATTACH;FMTTYPE=image/jpeg:https://www.lilabi.net/wp-content/uploads/2025/1
 1/14.11.-gequassel1.png
CATEGORIES:Diskussion
LOCATION:Kulturhaus Bielefeld\, Werner-Bock-Straße 34c\, Bielefeld\, Deuts
 chland
X-APPLE-STRUCTURED-LOCATION;VALUE=URI;X-ADDRESS=Werner-Bock-Straße 34c\, B
 ielefeld\, Deutschland;X-APPLE-RADIUS=100;X-TITLE=Kulturhaus Bielefeld:geo
 :0,0
END:VEVENT
BEGIN:VTIMEZONE
TZID:Europe/Berlin
X-LIC-LOCATION:Europe/Berlin
BEGIN:STANDARD
DTSTART:20251026T020000
TZOFFSETFROM:+0200
TZOFFSETTO:+0100
TZNAME:CET
END:STANDARD
END:VTIMEZONE
END:VCALENDAR