BEGIN:VCALENDAR
VERSION:2.0
PRODID:-//wp-events-plugin.com//7.2.3.1//EN
TZID:Europe/Berlin
X-WR-TIMEZONE:Europe/Berlin
BEGIN:VEVENT
UID:4939@lilabi.net
DTSTART;TZID=Europe/Berlin:20240205T173000
DTEND;TZID=Europe/Berlin:20240205T183000
DTSTAMP:20240205T140429Z
URL:https://www.lilabi.net/events/genug-spaziert-mahnwache-gegen-neonazis-
 und-die-alternative-fuer-deutschland/
SUMMARY:Genug spaziert!  Mahnwache gegen Neonazis und die "Alternative fü
 r Deutschland" 
DESCRIPTION:Detmold setzt erneut ein Zeichen: Wir akzeptieren kein rechtes 
 Gedankengut\, auch nicht in den so genannten "Spaziergängen". Wir stehen 
 ein gegen die Verbreitung von Hass und Propaganda und für ein solidarisch
 es\, respektierendes Miteinander.  Immer am Montagabend versammeln sich a
 uf dem Marktplatz in Detmold Menschen zum "Spazieren gehen". Die aktuell e
 twa 30 Personen umfassende Gruppe leistet nach ihrem Verständnis "Widerst
 and". Denn: "Detmold geht spazieren" wird grundsätzlich (mit einer Ausnah
 me zum "100. Spaziergang") nicht bei der Polizei angemeldet. An diese Mens
 chen zu appellieren\, Neonazis auszuschließen\, wäre sinnlos: Es ist ein
  weitgehend geschlossener Personenkreis ausschließlich aus extrem rechten
  Zusammenhängen.  Regelmäßig sind auch Mitglieder des völkisch-nation
 alistisch ausgerichteten Stadtverband Detmold der AfD bei den illegalen "S
 paziergängen" dabei. Auch im Kreis Lippe steht die Partei offensiv hinter
  der rassistischen Forderung "Remigration jetzt!". Führende Kader der Det
 molder AfD demonstrieren auch anderenorts Schulter an Schulter mit polizei
 bekannten militanten Neonazis. Wir wollen mit der Mahnwache zeigen\, dass 
 extrem rechte Weltanschauungen und neonazistische Vertreibungsfantasien ke
 ine Akzeptanz finden\, bei keiner Gelegenheit. Wir sagen: bis hierher und 
 nicht weiter!  #detmoldforfuture #klimagerechtigkeit #anotherworldispossi
 ble #aufstehenfürdiedemokratie #gegenrechts #fcknzs #fckafd #gemeinsamgeg
 enrechts
ATTACH;FMTTYPE=image/jpeg:https://www.lilabi.net/wp-content/uploads/2024/0
 2/IMG_20240202_190309_830.jpg
CATEGORIES:Demo,Kundgebung
LOCATION:Marktplatz Detmold\, Marktplatz\, Detmold\, 32756\, Deutschland
X-APPLE-STRUCTURED-LOCATION;VALUE=URI;X-ADDRESS=Marktplatz\, Detmold\, 3275
 6\, Deutschland;X-APPLE-RADIUS=100;X-TITLE=Marktplatz Detmold:geo:0,0
END:VEVENT
BEGIN:VTIMEZONE
TZID:Europe/Berlin
X-LIC-LOCATION:Europe/Berlin
BEGIN:STANDARD
DTSTART:20231029T020000
TZOFFSETFROM:+0200
TZOFFSETTO:+0100
TZNAME:CET
END:STANDARD
END:VTIMEZONE
END:VCALENDAR