BEGIN:VCALENDAR
VERSION:2.0
PRODID:-//wp-events-plugin.com//7.2.3.1//EN
TZID:Europe/Berlin
X-WR-TIMEZONE:Europe/Berlin
BEGIN:VEVENT
UID:4460@lilabi.net
DTSTART;TZID=Europe/Berlin:20221119T114000
DTEND;TZID=Europe/Berlin:20221119T170000
DTSTAMP:20221113T161526Z
URL:https://www.lilabi.net/events/gemeinsame-anreise-zur-demo-gegen-toedli
 che-polizeigewalt-am-19-11-in-dortmund/
SUMMARY:Gemeinsame Anreise zur Demo gegen tödliche Polizeigewalt am 19.11 
 in Dortmund
DESCRIPTION:Es gibt 1000 Mouhameds – Sie alle verdienen Gerechtigkeit!\n\
 nSo viele Einzelfälle\, dass es kein Ende findet!\n\nAm 8. August wurde M
 ouhamed Lamine Dramé von der Polizei kaltblütig mit einer Maschinenpisto
 le ermordet. Leider ist der Mord an Mouhamed nicht die erste rassistisch m
 otivierte Tat der Polizei und wir befürchten\, dass es auch nicht die let
 zte sein wird.\nWir haben es satt ermordet zu werden\, während die Täter
  weiterhin auf freiem Fuß sind.\n\nDaher rufen wir auf\, mit uns nach Dor
 tmund zu kommen\, um an Mouhamed zu Gedenken und gemeinsam ein Zeichen geg
 en Polizeigewalt und Rassismus zu setzen.\n\nTreff: Samstag 19.11. um 11:4
 0 (Gleis 4\, BereichC) am HBF Bielefeld\n\nGemeinsam gegen Rassismus und P
 olizeigewalt!
ATTACH;FMTTYPE=image/jpeg:https://www.lilabi.net/wp-content/uploads/2022/1
 1/Gemeinsame-Anreise-1000-×-1000-px.png
CATEGORIES:Zugtreffpunkt
END:VEVENT
BEGIN:VTIMEZONE
TZID:Europe/Berlin
X-LIC-LOCATION:Europe/Berlin
BEGIN:STANDARD
DTSTART:20221030T020000
TZOFFSETFROM:+0200
TZOFFSETTO:+0100
TZNAME:CET
END:STANDARD
END:VTIMEZONE
END:VCALENDAR