BEGIN:VCALENDAR
VERSION:2.0
PRODID:-//wp-events-plugin.com//7.2.3.1//EN
TZID:Europe/Berlin
X-WR-TIMEZONE:Europe/Berlin
BEGIN:VEVENT
UID:4366@lilabi.net
DTSTART;TZID=Europe/Berlin:20220821T150000
DTEND;TZID=Europe/Berlin:20220821T173000
DTSTAMP:20220719T134057Z
URL:https://www.lilabi.net/events/gefuehrte-radtour-auf-dem-global-goals-r
 adweg/
SUMMARY:Geführte Radtour auf dem Global Goals Radweg
DESCRIPTION:Du fährst gerne Rad und möchtest erfahren\, was sich hinter d
 en nachhaltigen Entwicklungszielen (Sustainable Development Golas – SDGs
 ) versteckt?  Dann melde dich für unsere geführte Radtour auf dem Globa
 l Goals Radweg an.\n\nWir erradel gemeinsam einen Teilabschnitt des Radweg
 s und passieren dabei 5 Stationen zu den Nachhaltigkeitszielen: Ungleichhe
 it\, Gender\, Wasser\, Globale Partnerschaften und Konsum und erfahren\, w
 as sich hinter diesen Zielen verbirgt.\n\nWann: Sonntag\, 21.08.2022\, 15:
 00 Uhr\nTreffpunkt: Siegfriedplatz vor der Bürgerwache\nEndpunkt: Obersee
 \, ca. 17:30 Uhr\n\nAnmeldung unter lara.bartels@welthaus.de\n\nDie Tour i
 st kostenlos\, um eine Spende wird gebeten.
CATEGORIES:Führung/Rundgang
END:VEVENT
BEGIN:VTIMEZONE
TZID:Europe/Berlin
X-LIC-LOCATION:Europe/Berlin
BEGIN:DAYLIGHT
DTSTART:20220327T030000
TZOFFSETFROM:+0100
TZOFFSETTO:+0200
TZNAME:CEST
END:DAYLIGHT
END:VTIMEZONE
END:VCALENDAR