BEGIN:VCALENDAR
VERSION:2.0
PRODID:-//wp-events-plugin.com//7.2.3.1//EN
TZID:Europe/Berlin
X-WR-TIMEZONE:Europe/Berlin
BEGIN:VEVENT
UID:3557@lilabi.net
DTSTART;TZID=Europe/Berlin:20211024T150000
DTEND;TZID=Europe/Berlin:20211024T183000
DTSTAMP:20210907T164655Z
URL:https://www.lilabi.net/events/gefuehrte-radtour-auf-dem-global-goals-r
 adweg-mit-der-neuen-wasserstation/
SUMMARY:Geführte Radtour auf dem Global Goals Radweg mit der neuen Wassers
 tation
DESCRIPTION:Wir erradeln den Radweg vom Siegfriedplatz zum Obersee und pass
 ieren die verschiedenen Stationen zu den nachhaltigen Entwicklungszielen (
 SDGs).\n\nWeißt du\, was „virtuelles Wasser“ ist? Ein Fokus dieser Ra
 dtour liegt auf unserer neuen Station zum SDG „Wasser“ – hier findes
 t du es heraus.\n\nWann?                 Am 24.10.2021 von
  15-18:30 Uhr\n\nStart:                    Siegfriedpla
 tz\n\nEnde:                    Obersee\n\n&nbsp\;\n\nDi
 e Teilnahme ist kostenlos. Eine kleine Spende für das Welthaus Bielefeld 
 ist erwünscht. Bitte melden Sie sich bei Interesse bei bildung@welthaus.d
 e für die Radtour an.\n\n&nbsp\;\n\nEs gilt die 3G-Regel.
CATEGORIES:Führung/Rundgang
LOCATION:Bürger*innenwache Siegfriedplatz\, Rolandstr. 16\, 33615 Bielefel
 d\, Deutschland
X-APPLE-STRUCTURED-LOCATION;VALUE=URI;X-ADDRESS=Rolandstr. 16\, 33615 Biele
 feld\, Deutschland;X-APPLE-RADIUS=100;X-TITLE=Bürger*innenwache Siegfried
 platz:geo:0,0
END:VEVENT
BEGIN:VTIMEZONE
TZID:Europe/Berlin
X-LIC-LOCATION:Europe/Berlin
BEGIN:DAYLIGHT
DTSTART:20210328T030000
TZOFFSETFROM:+0100
TZOFFSETTO:+0200
TZNAME:CEST
END:DAYLIGHT
END:VTIMEZONE
END:VCALENDAR