BEGIN:VCALENDAR
VERSION:2.0
PRODID:-//wp-events-plugin.com//7.2.3.1//EN
TZID:Europe/Berlin
X-WR-TIMEZONE:Europe/Berlin
BEGIN:VEVENT
UID:3556@lilabi.net
DTSTART;TZID=Europe/Berlin:20210925T150000
DTEND;TZID=Europe/Berlin:20210925T183000
DTSTAMP:20210907T164642Z
URL:https://www.lilabi.net/events/gefuehrte-radtour-auf-dem-global-goals-r
 adweg-im-rahmen-der-fairen-woche/
SUMMARY:Geführte Radtour auf dem Global Goals Radweg im Rahmen der Fairen 
 Woche
DESCRIPTION:Im Rahmen der Fairen Woche 2021 bietet das Welthaus eine gefüh
 rte Radtour auf dem Global Goals Radweg an. Wir erradeln den Radweg vom Si
 egfriedplatz zum Obersee und passieren die verschiedenen Stationen zu den 
 nachhaltigen Entwicklungszielen (SDGs).\n\nDie @fairewoche findet unter de
 m Motto "Zukunft fair gestalten" statt. In Anlehnung an das SDG 8 beschäf
 tigt sie sich insbesondere mit dem Thema „menschenwürdige Arbeit“.  
 Deswegen legen wir bei dieser Radtour einen Fokus auf das im Juni dieses J
 ahres beschlossene Lieferkettengesetz\, welches als rechtlicher Rahmen zum
  Schutz der Umwelt und Menschenrechte entlang globaler Lieferketten dient.
 \n\nWas steckt eigentlich hinter dem Lieferkettengesetz? Kann es zu mensch
 enwürdigen Arbeitsbedingungen weltweit beitragen? Dies sind Fragen\, die 
 wir gerne mit Ihnen beleuchten möchten.\n\nWann?            
      25.09.2021 von 15 bis 18:30 Uhr\n\nTreffpunkt:         
                Siegfriedplatz\n\nEndepunkt:        
                 Obersee\n\n&nbsp\;\n\nDie Teilnahme ist kos
 tenlos. Eine kleine Spende für das Welthaus Bielefeld ist erwünscht.  B
 itte melden Sie sich bei Interesse bei bildung@welthaus.de für die Radtou
 r an.                   Es gilt die 3G-Regel.\n\n&nbsp\;\
 n\nWeitere Infos zu der Fairen Woche finden Sie hier: https://www.faire-wo
 che.de/start
CATEGORIES:Führung/Rundgang
LOCATION:Bürger*innenwache Siegfriedplatz\, Rolandstr. 16\, 33615 Bielefel
 d\, Deutschland
X-APPLE-STRUCTURED-LOCATION;VALUE=URI;X-ADDRESS=Rolandstr. 16\, 33615 Biele
 feld\, Deutschland;X-APPLE-RADIUS=100;X-TITLE=Bürger*innenwache Siegfried
 platz:geo:0,0
END:VEVENT
BEGIN:VTIMEZONE
TZID:Europe/Berlin
X-LIC-LOCATION:Europe/Berlin
BEGIN:DAYLIGHT
DTSTART:20210328T030000
TZOFFSETFROM:+0100
TZOFFSETTO:+0200
TZNAME:CEST
END:DAYLIGHT
END:VTIMEZONE
END:VCALENDAR