BEGIN:VCALENDAR
VERSION:2.0
PRODID:-//wp-events-plugin.com//7.2.3.1//EN
TZID:Europe/Berlin
X-WR-TIMEZONE:Europe/Berlin
BEGIN:VEVENT
UID:4741@lilabi.net
DTSTART;TZID=Europe/Berlin:20230527T080000
DTEND;TZID=Europe/Berlin:20230527T223000
DTSTAMP:20230522T144343Z
URL:https://www.lilabi.net/events/gedenkstaettenfahrt-anne-frank-haus-amst
 erdam/
SUMMARY:Gedenkstättenfahrt Anne-Frank-Haus Amsterdam
DESCRIPTION:Der Verein Jugendzentrum Bünde und die Villa Bünde veranstalt
 en am 27. Mai eine Bildungsfahrt ins Anne-Frank-Haus nach Amsterdam.\n\nGe
 meinsame Busanreise und Besuch der Gedenkstätte.\n\nAngesprochen dürfen 
 sich Personen ab 16 Jahren fühlen. Flinta werden für die Teilnahme im Si
 nne antisexistischer Denk- und Handlungsweisen priorisiert.\n\nEs sind max
 imal 50 Plätze vorhanden. Nach der Anmeldung erhälst du Informationen zu
  Treffpunkt\, Uhrzeit und Weiterem.\n\nAnmeldungen an villa-buende@web.de\
 , 0152 57559294 oder via instagram @villa.buende\n\nSolipreis 25€\, Regu
 lär 15€\n\nhttps://www.instagram.com/p/Cr75TUfrA0c/?utm_source=ig_web_c
 opy_link&amp\;igshid=MzRlODBiNWFlZA==\n\nDiese Veranstaltung findet im Rah
 men der Aktionswochen gegen Rassismus und Rechtsextremismus im Kreis Herfo
 rd statt. Zum Programm vom 15.5.-25.6.2023\n\nwww.gegenrechts.info
ATTACH;FMTTYPE=image/jpeg:https://www.lilabi.net/wp-content/uploads/2023/0
 5/Amsterdamfahrt.png
CATEGORIES:Führung/Rundgang,Gedenkveranstaltung
LOCATION:Anne-Frank-Haus Amsterdam\, Marktplatz Bünde\, Bünde\, 32257\, D
 eutschland
X-APPLE-STRUCTURED-LOCATION;VALUE=URI;X-ADDRESS=Marktplatz Bünde\, Bünde\
 , 32257\, Deutschland;X-APPLE-RADIUS=100;X-TITLE=Anne-Frank-Haus Amsterdam
 :geo:0,0
END:VEVENT
BEGIN:VTIMEZONE
TZID:Europe/Berlin
X-LIC-LOCATION:Europe/Berlin
BEGIN:DAYLIGHT
DTSTART:20230326T030000
TZOFFSETFROM:+0100
TZOFFSETTO:+0200
TZNAME:CEST
END:DAYLIGHT
END:VTIMEZONE
END:VCALENDAR