BEGIN:VCALENDAR
VERSION:2.0
PRODID:-//wp-events-plugin.com//7.2.3.1//EN
TZID:Europe/Berlin
X-WR-TIMEZONE:Europe/Berlin
BEGIN:VEVENT
UID:3676@lilabi.net
DTSTART;TZID=Europe/Berlin:20220219T160000
DTEND;TZID=Europe/Berlin:20220219T183000
DTSTAMP:20220217T150241Z
URL:https://www.lilabi.net/events/gedenkdemo-2-jahre-nach-hanau/
SUMMARY:Gedenkdemo "2 Jahre nach Hanau"
DESCRIPTION:Kein Vergeben\, kein Vergessen!\n\nAm 19. Februar jährt sich d
 as Attentat von Hanau\, einer der schlimmste rechtsterroristischen Akte in
  der Bundesrepublik seit der NSU Mordreihe\, zum zweiten Mal. Der Anschlag
  kostete neun Menschen das Leben. Ferhat Unvar\, Mercedes Kierpacz\, Sedat
  Gürbüz\, Gökhan Gültekin\, Hamza Kurtović\, Kaloyan Velkov\, Vili Vi
 orel Păun\, Said Nesar Hashemi\, Fatih Saraçoğlu wurden von einem Fasch
 isten ermordet. Wir wissen\, Hanau ist kein Einzelfall\, es ist einer von 
 vielen rechtsterroristischen Anschlägen in den vergangenen 20 Jahren. Sie
  sind ein Zeichen für den aufstrebenden Neofaschismus in Deutschland und 
 Europa. Dieser zeigt sich nicht nur in Anschlägen\, sondern zum Beispiel 
 auch in sogenannten "Spaziergängen" organisierter Nazis\, in antisemitisc
 hen Verschwörungstheorien\, Repressionen gegen linke Proteste und den ver
 schlossenen NSU-Akten.\nDieser Staat hat kein Interesse daran\, die Anschl
 äge aufzuklären\, er selbst treibt sie mit seiner Politik voran. Wir mü
 ssen gegen diese Politik aktiv werden. Wir müssen gegen Rassismus\, Antis
 emitismus und rechte Gewalt eintreten. Am 19. Februar wollen wir deshalb d
 en Opfern gedenken\, uns daran erinnern\, was vor zwei Jahren passiert ist
 \, und laut sagen: Kein Vergeben! Kein Vergessen!\nHiç unutmadık\, unutm
 ayacağız !\nKesek nayê ji bîr kirin!
CATEGORIES:Demo
LOCATION:\, \, 
X-APPLE-STRUCTURED-LOCATION;VALUE=URI;X-ADDRESS=\, ;X-APPLE-RADIUS=100;X-TI
 TLE=:geo:0,0
END:VEVENT
BEGIN:VTIMEZONE
TZID:Europe/Berlin
X-LIC-LOCATION:Europe/Berlin
BEGIN:STANDARD
DTSTART:20211031T020000
TZOFFSETFROM:+0200
TZOFFSETTO:+0100
TZNAME:CET
END:STANDARD
END:VTIMEZONE
END:VCALENDAR