BEGIN:VCALENDAR
VERSION:2.0
PRODID:-//wp-events-plugin.com//7.2.3.1//EN
TZID:Europe/Berlin
X-WR-TIMEZONE:Europe/Berlin
BEGIN:VEVENT
UID:4720@lilabi.net
DTSTART;TZID=Europe/Berlin:20230428T180000
DTEND;TZID=Europe/Berlin:20230428T234500
DTSTAMP:20230411T141128Z
URL:https://www.lilabi.net/events/geburtstagskonzert-fuers-ajz/
SUMMARY:Geburtstagskonzert fürs AJZ
DESCRIPTION:Das AJZ hat Geburtstag und die Schublade Punk gratuliert sehr h
 erzlich mit einem Konzert. Geburtstagsständchen tragen gleich fünf Bands
  vor:\n\nDead Years (Bielefeld)\nhttps://deadyearsdeadyears.bandcamp.com/\
 n\nMarode (Düsseldorf)\nhttps://marode.bandcamp.com/album/risse-2\n\nSche
 rben (Krefeld)\nhttps://scherben.bandcamp.com/album/domestiziert\n\nLoser 
 Youth (Hamburg)\nhttps://loseryouth.bandcamp.com/album/warum-haust-du-dich
 -selbst\n\nPonys auf Pump (Berlin)\nhttps://ponysaufpump.bandcamp.com/albu
 m/s-t\n\nDoors: 18 Uhr\nMusic: 19 Uhr pünktlich!!!\nDanach gibt's noch Pu
 nkrock in der Kneipe!\n\nMacht vor dem Konzertbesuch gerne einen Coronates
 t...\n\nNo Racism * No Fascism * No Sexism * No Ableism * No Hostility aga
 inst LGBTQIA+ * No Antisemitism * No Conspiracy Bullshit
ATTACH;FMTTYPE=image/jpeg:https://www.lilabi.net/wp-content/uploads/2023/0
 4/geburtstag_lilabi.jpg
CATEGORIES:Konzert
LOCATION:AJZ Bielefeld\, Heeper Str. 132\, 33607 Bielefeld\, Deutschland
X-APPLE-STRUCTURED-LOCATION;VALUE=URI;X-ADDRESS=Heeper Str. 132\, 33607 Bie
 lefeld\, Deutschland;X-APPLE-RADIUS=100;X-TITLE=AJZ Bielefeld:geo:0,0
END:VEVENT
BEGIN:VTIMEZONE
TZID:Europe/Berlin
X-LIC-LOCATION:Europe/Berlin
BEGIN:DAYLIGHT
DTSTART:20230326T030000
TZOFFSETFROM:+0100
TZOFFSETTO:+0200
TZNAME:CEST
END:DAYLIGHT
END:VTIMEZONE
END:VCALENDAR