BEGIN:VCALENDAR
VERSION:2.0
PRODID:-//wp-events-plugin.com//7.2.3.1//EN
TZID:Europe/Berlin
X-WR-TIMEZONE:Europe/Berlin
BEGIN:VEVENT
UID:4722@lilabi.net
DTSTART;TZID=Europe/Berlin:20230429T180000
DTEND;TZID=Europe/Berlin:20230429T180000
DTSTAMP:20230414T122307Z
URL:https://www.lilabi.net/events/geburtstagskonzert-fuer-ajz-tag-2/
SUMMARY:Geburtstagskonzert für AJZ Tag 2
DESCRIPTION:Das AJZ wird 50 Jahre alt und das wollen wir mit euch feiern! /
 / The AJZ is having its 50th birthday and we want to celebrate with you!\n
 Krabbelgruppe Entertainment presents:\n\nKishote (Farewell Show!) | Emovio
 lence | Bielefeld\nhttps://kishote.bandcamp.com/album/takotsubo\n\nStagger
  | Cheesy Raw Punk | Bielefeld\n\nHC Baxxter | Ravepunk | Bielefeld\nhttps
 ://hcbaxxter.bandcamp.com/\n\nWrackspurts | Alternative / Grunge / Punk | 
 Leipzig\nhttps://wrackspurts.bandcamp.com\n\nF*cking Angry | Hardcorepunk 
 / Deutschpunk | Bonn\nhttps://fuckingangry.bandcamp.com/\n\nDoors: 18:00\n
 Noise: 19:00\n\nUnd im Anschluss // After the show:\nLOVE WILL TEAR US A P
 ARTY\n80s / Indie / Wave / Post-Punk / Punk\n\nEs wird toll\, kommt vorbei
 ! Und macht bitte nen Test vorher. // It will be fun\, come join us! Pleas
 e test yourselves before the show.\n\nNo Racism * No Fascism * No Sexism *
  No Ableism * No Hostility against LGBTQIA+ * No Antisemitism * No Conspir
 acy Bullshit
ATTACH;FMTTYPE=image/jpeg:https://www.lilabi.net/wp-content/uploads/2023/0
 4/geburtstag_lilabi-1.jpg
CATEGORIES:Konzert,Party
LOCATION:AJZ Bielefeld\, Heeper Str. 132\, 33607 Bielefeld\, Deutschland
X-APPLE-STRUCTURED-LOCATION;VALUE=URI;X-ADDRESS=Heeper Str. 132\, 33607 Bie
 lefeld\, Deutschland;X-APPLE-RADIUS=100;X-TITLE=AJZ Bielefeld:geo:0,0
END:VEVENT
BEGIN:VTIMEZONE
TZID:Europe/Berlin
X-LIC-LOCATION:Europe/Berlin
BEGIN:DAYLIGHT
DTSTART:20230326T030000
TZOFFSETFROM:+0100
TZOFFSETTO:+0200
TZNAME:CEST
END:DAYLIGHT
END:VTIMEZONE
END:VCALENDAR