BEGIN:VCALENDAR
VERSION:2.0
PRODID:-//wp-events-plugin.com//7.2.3.1//EN
TZID:Europe/Berlin
X-WR-TIMEZONE:Europe/Berlin
BEGIN:VEVENT
UID:3561@lilabi.net
DTSTART;TZID=Europe/Berlin:20210928T190000
DTEND;TZID=Europe/Berlin:20210928T210000
DTSTAMP:20210921T181925Z
URL:https://www.lilabi.net/events/geboren-in-ravemsbrueck/
SUMMARY:Geboren in Ravemsbrück
DESCRIPTION:Film und Gespräch mit den Filmemacherinnen\n\nDer Dokumentarfi
 lm schildert die Geschichte einer der wenigen\nÜberlebenden im KZ geboren
 en Kinder. Im April 1944 kam Ingelore Prochnow\nim Frauenkonzentrationslag
 er Ravensbrück zur Welt\, erfuhr erst 40 Jahre\nspäter von den Umstände
 n ihrer Geburt und machte sich auf die Suche nach\nihrer Geschichte und na
 ch möglichen Angehörigen.\n\nEs geht um fehlende Erinnerungen\, offene F
 ragen und darum\, wie\nUnsichtbares sichtbar gemacht werden kann. Ingelore
 s Geschichte wird von\nihr selbst erzählt\, setzt sich aus Fragmenten\, D
 okumenten und Briefen\nfür die Zuschauer*innen nach und nach zusammen.\n\
 nEinlass ab 18:30 | Findet auch bei Regen statt | Begrenzte Platzzahl\n| E
 s gelten die 3G-Regeln | Bitte kommt getestet.\n\npräsentiert von akzent_
 in\nakzentin.noblogs.org
CATEGORIES:Film
LOCATION:\, \, 
X-APPLE-STRUCTURED-LOCATION;VALUE=URI;X-ADDRESS=\, ;X-APPLE-RADIUS=100;X-TI
 TLE=:geo:0,0
END:VEVENT
BEGIN:VTIMEZONE
TZID:Europe/Berlin
X-LIC-LOCATION:Europe/Berlin
BEGIN:DAYLIGHT
DTSTART:20210328T030000
TZOFFSETFROM:+0100
TZOFFSETTO:+0200
TZNAME:CEST
END:DAYLIGHT
END:VTIMEZONE
END:VCALENDAR