BEGIN:VCALENDAR
VERSION:2.0
PRODID:-//wp-events-plugin.com//7.2.3.1//EN
TZID:Europe/Berlin
X-WR-TIMEZONE:Europe/Berlin
BEGIN:VEVENT
UID:4945@lilabi.net
DTSTART;TZID=Europe/Berlin:20240315T200000
DTEND;TZID=Europe/Berlin:20240315T235500
DTSTAMP:20240208T172506Z
URL:https://www.lilabi.net/events/geballer-show/
SUMMARY:Geballer-Show
DESCRIPTION:Geballer-Shows präsentier:\n\n&nbsp\;\n\nWUT (Metal-Crust aus 
 Berlin)\n\nPIZZA DEATH (Punk aus Berlin)\n\nPOSSIBLE DAMAGE (PowerViolence
 /Grind aus Münster)\n\n&nbsp\;\n\n20:00 Uhr Einlass /// 21:00 Uhr los!
ATTACH;FMTTYPE=image/jpeg:https://www.lilabi.net/wp-content/uploads/2024/0
 2/15032024.jpg
CATEGORIES:Konzert
LOCATION:AJZ Bielefeld\, Heeper Str. 132\, 33607 Bielefeld\, Deutschland
X-APPLE-STRUCTURED-LOCATION;VALUE=URI;X-ADDRESS=Heeper Str. 132\, 33607 Bie
 lefeld\, Deutschland;X-APPLE-RADIUS=100;X-TITLE=AJZ Bielefeld:geo:0,0
END:VEVENT
BEGIN:VTIMEZONE
TZID:Europe/Berlin
X-LIC-LOCATION:Europe/Berlin
BEGIN:STANDARD
DTSTART:20231029T020000
TZOFFSETFROM:+0200
TZOFFSETTO:+0100
TZNAME:CET
END:STANDARD
END:VTIMEZONE
END:VCALENDAR