BEGIN:VCALENDAR
VERSION:2.0
PRODID:-//wp-events-plugin.com//7.2.3.1//EN
TZID:Europe/Berlin
X-WR-TIMEZONE:Europe/Berlin
BEGIN:VEVENT
UID:5585@lilabi.net
DTSTART;TZID=Europe/Berlin:20240411T200000
DTEND;TZID=Europe/Berlin:20240411T235500
DTSTAMP:20240228T131428Z
URL:https://www.lilabi.net/events/geballer-show-2/
SUMMARY:GEBALLER SHOW
DESCRIPTION:GEBALLER SHOWS präsentiert:\n\nGRIEF aus Toulouse (Frankreich)
   https://grief1.bandcamp.com/album/construire-le-vide\n\nund\n\nAUSZENSE
 ITER aus ... der Nähe (NRW) https://auszenseiter.bandcamp.com/album/mis-r
 e\n\n&nbsp\;
ATTACH;FMTTYPE=image/jpeg:https://www.lilabi.net/wp-content/uploads/2024/0
 2/11.04.24_net.jpg
CATEGORIES:Konzert
LOCATION:AJZ Bielefeld\, Heeper Str. 132\, 33607 Bielefeld\, Deutschland
X-APPLE-STRUCTURED-LOCATION;VALUE=URI;X-ADDRESS=Heeper Str. 132\, 33607 Bie
 lefeld\, Deutschland;X-APPLE-RADIUS=100;X-TITLE=AJZ Bielefeld:geo:0,0
END:VEVENT
BEGIN:VTIMEZONE
TZID:Europe/Berlin
X-LIC-LOCATION:Europe/Berlin
BEGIN:DAYLIGHT
DTSTART:20240331T030000
TZOFFSETFROM:+0100
TZOFFSETTO:+0200
TZNAME:CEST
END:DAYLIGHT
END:VTIMEZONE
END:VCALENDAR