BEGIN:VCALENDAR
VERSION:2.0
PRODID:-//wp-events-plugin.com//7.2.3.1//EN
TZID:Europe/Berlin
X-WR-TIMEZONE:Europe/Berlin
BEGIN:VEVENT
UID:6401@lilabi.net
DTSTART;TZID=Europe/Berlin:20251011T200000
DTEND;TZID=Europe/Berlin:20251011T235900
DTSTAMP:20250923T091416Z
URL:https://www.lilabi.net/events/geballer-show-14/
SUMMARY:GEBALLER-SHOW
DESCRIPTION:GEBALLER-SHOWS präsentiert:\n\nCRE-DES /// Hardcore-Punk aus H
 annover\n\nAEKEL /// Powerviolence aus Osnabrück (first show!!)\n\nLET TH
 EM EAT MONEY /// Crust aus Bremgarten (Schweiz)
ATTACH;FMTTYPE=image/jpeg:https://www.lilabi.net/wp-content/uploads/2025/0
 9/11-10-25-net.jpg
CATEGORIES:Konzert
LOCATION:AJZ Bielefeld\, Heeper Str. 132\, 33607 Bielefeld\, Deutschland
X-APPLE-STRUCTURED-LOCATION;VALUE=URI;X-ADDRESS=Heeper Str. 132\, 33607 Bie
 lefeld\, Deutschland;X-APPLE-RADIUS=100;X-TITLE=AJZ Bielefeld:geo:0,0
END:VEVENT
BEGIN:VTIMEZONE
TZID:Europe/Berlin
X-LIC-LOCATION:Europe/Berlin
BEGIN:DAYLIGHT
DTSTART:20250330T030000
TZOFFSETFROM:+0100
TZOFFSETTO:+0200
TZNAME:CEST
END:DAYLIGHT
END:VTIMEZONE
END:VCALENDAR