BEGIN:VCALENDAR
VERSION:2.0
PRODID:-//wp-events-plugin.com//7.2.3.1//EN
TZID:Europe/Berlin
X-WR-TIMEZONE:Europe/Berlin
BEGIN:VEVENT
UID:6334@lilabi.net
DTSTART;TZID=Europe/Berlin:20250830T200000
DTEND;TZID=Europe/Berlin:20250830T235500
DTSTAMP:20250721T131658Z
URL:https://www.lilabi.net/events/geballer-show-12/
SUMMARY:Geballer-Show
DESCRIPTION:Geballer Shows präsentiert:\nTREMøRE (empowerviolence aus ber
 lin)\n\nKRÄUTERHEXEN (witch-core aus osnabrück)\n\nFLOATING WOODS (emovi
 olence aus bielefeld)\n\nMUDHEAD (thrashing hardcore aus hamburg)
CATEGORIES:Konzert,Musik
LOCATION:AJZ Bielefeld\, Heeper Str. 132\, 33607 Bielefeld\, Deutschland
X-APPLE-STRUCTURED-LOCATION;VALUE=URI;X-ADDRESS=Heeper Str. 132\, 33607 Bie
 lefeld\, Deutschland;X-APPLE-RADIUS=100;X-TITLE=AJZ Bielefeld:geo:0,0
END:VEVENT
BEGIN:VTIMEZONE
TZID:Europe/Berlin
X-LIC-LOCATION:Europe/Berlin
BEGIN:DAYLIGHT
DTSTART:20250330T030000
TZOFFSETFROM:+0100
TZOFFSETTO:+0200
TZNAME:CEST
END:DAYLIGHT
END:VTIMEZONE
END:VCALENDAR