BEGIN:VCALENDAR
VERSION:2.0
PRODID:-//wp-events-plugin.com//7.2.3.1//EN
TZID:Europe/Berlin
X-WR-TIMEZONE:Europe/Berlin
BEGIN:VEVENT
UID:6171@lilabi.net
DTSTART;TZID=Europe/Berlin;VALUE=DATE:20250517
DTEND;TZID=Europe/Berlin;VALUE=DATE:20250518
DTSTAMP:20250512T184459Z
URL:https://www.lilabi.net/events/fuer-ein-solidarisches-herford-ohne-hass
 -hetze-gemeinsam-gegen-den-naziaufmarsch/
SUMMARY:FÜR EIN SOLIDARISCHES HERFORD ohne Hass &amp\; Hetze | gemeinsam g
 egen den Naziaufmarsch
DESCRIPTION:https://gegenrechts.info/home.html\n\n&nbsp\;
CATEGORIES:Demo
LOCATION:FLA FLA Herford\, Diebrocker Straße 2\, 32051 Herford\, Deutschla
 nd
X-APPLE-STRUCTURED-LOCATION;VALUE=URI;X-ADDRESS=Diebrocker Straße 2\, 3205
 1 Herford\, Deutschland;X-APPLE-RADIUS=100;X-TITLE=FLA FLA Herford:geo:0,0
END:VEVENT
BEGIN:VTIMEZONE
TZID:Europe/Berlin
X-LIC-LOCATION:Europe/Berlin
BEGIN:DAYLIGHT
DTSTART:20250330T030000
TZOFFSETFROM:+0100
TZOFFSETTO:+0200
TZNAME:CEST
END:DAYLIGHT
END:VTIMEZONE
END:VCALENDAR