BEGIN:VCALENDAR
VERSION:2.0
PRODID:-//wp-events-plugin.com//7.2.3.1//EN
TZID:Europe/Berlin
X-WR-TIMEZONE:Europe/Berlin
BEGIN:VEVENT
UID:4472@lilabi.net
DTSTART;TZID=Europe/Berlin:20221201T183000
DTEND;TZID=Europe/Berlin:20221201T200000
DTSTAMP:20221201T144401Z
URL:https://www.lilabi.net/events/friede-den-kurven-krieg-den-verbaenden/
SUMMARY:[FÄLLT AUS!!!] Friede den Kurven\, Krieg den Verbänden
DESCRIPTION:[FÄLLT AUS!!!]\n\nFußballfans haben in den letzten Jahren vie
 l gegen die Kommerzialisierung ihres Sports protestiert\, gebracht hat es 
 wenig. Egal\, ob es gegen Investoren à la Dietmar Hopp oder das Vereinsko
 nstrukt aus Leipzig ging. Und die Weltmeisterschaft 2022 wird in Katar sta
 ttfinden. Es fehlt nicht an Aktivismus\, sondern am Verständnis für die 
 Funktionsweise des Kommerzfußballs. Wer nur die nächste Unappetitlichkei
 t aufs Korn nimmt\, der rettet nicht den Fußball\, der bekämpft nur Symp
 tome. Raphael Molter erweitert den Blick über den Tellerrand hinaus: Verb
 ände und ihre Funktionäre müssen in den Mittelpunkt gerückt werden –
  nicht nur im Protest\, auch in der Analyse! So entsteht ein Bild\, wie de
 r Fußball und das Geschäft mit ihm heute funktionieren\, warum so vieles
  schiefläuft und was gebraucht wird\, um das zu ändern. Ein Seitenblick 
 auf theoretische Ansätze von Johannes Agnoli und Chantal Mouffe kann weit
 erhelfen. Er liefert hilfreiche Fingerzeige\, wie der Fußball denen zurü
 ckzugeben wäre\, die Wochenende für Wochenende auf die Spiele warten und
  in die Stadien pilgern.\n\nEine Veranstaltung der Antinationalen Linken B
 ielefeld [ALIBI] im Rahmen der Veranstaltungsreihe "Boykott Katar".
ATTACH;FMTTYPE=image/jpeg:https://www.lilabi.net/wp-content/uploads/2022/1
 1/layoutfinal-3.jpg
CATEGORIES:Vortrag
LOCATION:Nr. z. P.\, Große Kurfürstenstraße 81\, Bielefeld\, Deutschland
X-APPLE-STRUCTURED-LOCATION;VALUE=URI;X-ADDRESS=Große Kurfürstenstraße 8
 1\, Bielefeld\, Deutschland;X-APPLE-RADIUS=100;X-TITLE=Nr. z. P.:geo:0,0
END:VEVENT
BEGIN:VTIMEZONE
TZID:Europe/Berlin
X-LIC-LOCATION:Europe/Berlin
BEGIN:STANDARD
DTSTART:20221030T020000
TZOFFSETFROM:+0200
TZOFFSETTO:+0100
TZNAME:CET
END:STANDARD
END:VTIMEZONE
END:VCALENDAR