BEGIN:VCALENDAR
VERSION:2.0
PRODID:-//wp-events-plugin.com//7.2.3.1//EN
TZID:Europe/Berlin
X-WR-TIMEZONE:Europe/Berlin
BEGIN:VEVENT
UID:4782@lilabi.net
DTSTART;TZID=Europe/Berlin:20230713T193000
DTEND;TZID=Europe/Berlin:20230713T213000
DTSTAMP:20230703T100318Z
URL:https://www.lilabi.net/events/frenemies-antisemitismus-rassismus-und-i
 hre-kritikerinnen/
SUMMARY:Frenemies: Antisemitismus\, Rassismus und ihre Kritiker*innen
DESCRIPTION:Eigentlich könnte doch alles ganz einfach sein\, oder? Antisem
 itismus und Rassismus sind beides menschenfeindliche Einstellungen\, die v
 on allen bekämpft werden müssen. Die Kritik dieser Ideologien müssten d
 eshalb stets zusammen geleistet werden. In der Praxis kommt es jedoch imme
 r wieder zu Unvereinbarkeiten und handfesten Auseinandersetzungen\, mit we
 chselseitigen Ausschlüssen\, Relativierungen\, Beschuldigungen und einem 
 Klima des Argwohns.\n\nDie Mitherausgeberin Sina Arnold und der Autor Feli
 x Axster stellen das Buch und ihre Beiträge vor. Dabei liegt der Fokus au
 f dem Verhältnis von Antisemitismus und Kolonialrassismus und die damit z
 usammenhängenden Probleme und Perspektiven linker Kämpfe.
CATEGORIES:Buchvorstellung,Diskussion
LOCATION:Buchhandlung Mondo\, Elsa-Brändström-Str. 23\, Bielefeld\, NRW\,
  33602\, Deutschland
X-APPLE-STRUCTURED-LOCATION;VALUE=URI;X-ADDRESS=Elsa-Brändström-Str. 23\,
  Bielefeld\, NRW\, 33602\, Deutschland;X-APPLE-RADIUS=100;X-TITLE=Buchhand
 lung Mondo:geo:0,0
END:VEVENT
BEGIN:VTIMEZONE
TZID:Europe/Berlin
X-LIC-LOCATION:Europe/Berlin
BEGIN:DAYLIGHT
DTSTART:20230326T030000
TZOFFSETFROM:+0100
TZOFFSETTO:+0200
TZNAME:CEST
END:DAYLIGHT
END:VTIMEZONE
END:VCALENDAR