BEGIN:VCALENDAR
VERSION:2.0
PRODID:-//wp-events-plugin.com//7.2.3.1//EN
TZID:Europe/Berlin
X-WR-TIMEZONE:Europe/Berlin
BEGIN:VEVENT
UID:3661@lilabi.net
DTSTART;TZID=Europe/Berlin:20211220T170000
DTEND;TZID=Europe/Berlin:20211220T183000
DTSTAMP:20211209T234745Z
URL:https://www.lilabi.net/events/freiwilligendienst-weltwaerts-infoverans
 taltung-2/
SUMMARY:Freiwilligendienst weltwärts -Infoveranstaltung
DESCRIPTION:Du hast Lust einen Freiwilligendienst weltwärts in Ecuador\, M
 exiko\, Peru\, Sambia\, Mosambik oder Südafrika zu machen\, hättest aber
  gerne noch mehr Infos zu Land\, Einsatzplätzen\, Bewerbung und Ablauf un
 seres Freiwilligendienstes. Oder du bist unschlüssig welcher Einsatzplatz
  zu dir passen könnte? Dann schalte dich ein um 17:00 bei Zoom. Anmeldung
  bis zum 19.12.2021 bei susanne.herrmann@welthaus.de\n\nHier hast du die M
 öglichkeit alle deine Fragen los zu werden und dich mit Referent*innen un
 d ehemaligen Freiwilligen auszutauschen.
ATTACH;FMTTYPE=image/jpeg:https://www.lilabi.net/wp-content/uploads/2021/1
 2/csm_Titel_Flyer_Infotag_web_66744e03c3.jpg
CATEGORIES:Infoveranstaltung
LOCATION:https://www.welthaus.de/dates/dates-detail/news/detail/News/freiwi
 lligendienst-weltwaerts-infoveranstaltung/
END:VEVENT
BEGIN:VTIMEZONE
TZID:Europe/Berlin
X-LIC-LOCATION:Europe/Berlin
BEGIN:STANDARD
DTSTART:20211031T020000
TZOFFSETFROM:+0200
TZOFFSETTO:+0100
TZNAME:CET
END:STANDARD
END:VTIMEZONE
END:VCALENDAR