BEGIN:VCALENDAR
VERSION:2.0
PRODID:-//wp-events-plugin.com//7.2.3.1//EN
TZID:Europe/Berlin
X-WR-TIMEZONE:Europe/Berlin
BEGIN:VEVENT
UID:4721@lilabi.net
DTSTART;TZID=Europe/Berlin:20230501T160000
DTEND;TZID=Europe/Berlin:20230501T173000
DTSTAMP:20230413T123031Z
URL:https://www.lilabi.net/events/freie-raeume-eine-geschichte-der-jugendz
 entrumbewegung/
SUMMARY:Freie Räume - Eine Geschichte der Jugendzentrumbewegung
DESCRIPTION:Dokumentarfilm im AJZ Kino\n\nMontag\, 1. Mai 2023\, 16 Uhr\n\n
 &nbsp\;\n\nHappy Birthday altes Haus - Das AJZ Bielefeld wird 50!\n\nAm Ta
 g der offenen Tür wird der Film "Freie Räume" von Tobias Frindt gezeigt.
 \n\nDie Studentenrevolte\, der Aufbruch\, die sexuelle Revolution\, das lo
 ssagen vom Nachkriegsdeutschland der Täter und Mitwisser\, das alles wurd
 e in den letzten Jahren auf vielen Ebenen breit thematisiert\, es wurde ge
 forscht und unzählige Bücher und Filme hatten die „68er“ Bewegung zu
 m Thema. Man kann sagen\, mittlerweile gehört 1968 zum Gründungsmythos d
 er Berliner Republik.\n\nWeithin unbekannt ist jedoch\, dass nur kurze Zei
 t später\, die Ideen und Forderungen der 68er sich in einer anderen Jugen
 dbewegung manifestieren sollten. In den frühen 70er Jahren versuchten tau
 sende von Jugendlichen in Westdeutschland in ihren Städten und Gemeinden 
 selbstverwaltete Jugendzentren und Jugendhäuser zu etablieren\, um sich e
 igene Treffpunkte zur Freizeitgestaltung ohne Konsumzwang und ohne Kontrol
 le durch die Elterngeneration zu schaffen.\n\nMit Parolen wie “Was wir w
 ollen: Freizeit ohne Kontrollen” gingen sie auf die Straßen\, sammelten
  Unterschriften und stritten sich mit Kommunalpolitikern. Anknüpfend an d
 ie 68er-Revolte hatten sich in einer Vielzahl von Städten und Gemeinden I
 nitiativgruppen Jugendlicher gebildet.\n\nMit der Jugendzentrumsbewegung u
 nd der Einrichtung hunderter selbstverwalteter Jugendzentren kam es auch i
 n der „Provinz“ zu politisch-kulturellen Aufbrüchen\, die politisiert
 e Jugendkultur der Zeit breitete sich in ländlich-kleinstädtischen wie i
 n suburbanen Räumen aus. Freie Räume geht dieser von der Geschichtsschre
 ibung fast vergessenen Bewegung nach und versucht darüberhinaus herauszuf
 inden\, was von ihr übrig geblieben ist.
ATTACH;FMTTYPE=image/jpeg:https://www.lilabi.net/wp-content/uploads/2023/0
 4/2023-05-JugendzentrenFilm.png
CATEGORIES:Film
LOCATION:AJZ Bielefeld\, Heeper Str. 132\, 33607 Bielefeld\, Deutschland
X-APPLE-STRUCTURED-LOCATION;VALUE=URI;X-ADDRESS=Heeper Str. 132\, 33607 Bie
 lefeld\, Deutschland;X-APPLE-RADIUS=100;X-TITLE=AJZ Bielefeld:geo:0,0
END:VEVENT
BEGIN:VTIMEZONE
TZID:Europe/Berlin
X-LIC-LOCATION:Europe/Berlin
BEGIN:DAYLIGHT
DTSTART:20230326T030000
TZOFFSETFROM:+0100
TZOFFSETTO:+0200
TZNAME:CEST
END:DAYLIGHT
END:VTIMEZONE
END:VCALENDAR