BEGIN:VCALENDAR
VERSION:2.0
PRODID:-//wp-events-plugin.com//7.2.3.1//EN
TZID:Europe/Berlin
X-WR-TIMEZONE:Europe/Berlin
BEGIN:VEVENT
UID:4781@lilabi.net
DTSTART;TZID=Europe/Berlin:20230705T170000
DTEND;TZID=Europe/Berlin:20230705T200000
DTSTAMP:20230630T123642Z
URL:https://www.lilabi.net/events/frag-die-kuba-brigadisten-mit-salsa-tanz
 kurs/
SUMMARY:Frag die Kuba-Brigadisten mit Salsa Tanzkurs
DESCRIPTION:Bald fliegt unsere erste Jugendbrigade nach Kuba! Vorher könnt
  ihr den Brigadisten noch Fragen mitgeben. Die Antworten werden dann auf K
 uba recherchiert und anschließend geteilt! Außerdem werden wir uns zusam
 mensetzen und über einige Aspekte des Sozialismus auf Kuba diskutieren. A
 nschließend findet noch eine Salsa Einsteigerstunde statt! Kommt also daz
 u\, diskutiert\, tanzt und trinkt Cuba Libre mit uns! Wir treffen uns am L
 ichtwerk im Ravensberger Park.
CATEGORIES:Diskussion,Tanz
LOCATION:Ravensberger Park\, Ravensberger Park\, Bielefeld\, Deutschland
X-APPLE-STRUCTURED-LOCATION;VALUE=URI;X-ADDRESS=Ravensberger Park\, Bielefe
 ld\, Deutschland;X-APPLE-RADIUS=100;X-TITLE=Ravensberger Park:geo:0,0
END:VEVENT
BEGIN:VTIMEZONE
TZID:Europe/Berlin
X-LIC-LOCATION:Europe/Berlin
BEGIN:DAYLIGHT
DTSTART:20230326T030000
TZOFFSETFROM:+0100
TZOFFSETTO:+0200
TZNAME:CEST
END:DAYLIGHT
END:VTIMEZONE
END:VCALENDAR