BEGIN:VCALENDAR
VERSION:2.0
PRODID:-//wp-events-plugin.com//7.2.3.1//EN
TZID:Europe/Berlin
X-WR-TIMEZONE:Europe/Berlin
BEGIN:VEVENT
UID:3722@lilabi.net
DTSTART;TZID=Europe/Berlin:20220524T193000
DTEND;TZID=Europe/Berlin:20220524T235900
DTSTAMP:20220523T210943Z
URL:https://www.lilabi.net/events/flinta-kneipe/
SUMMARY:FLINTA+ Kneipe
DESCRIPTION:Es gibt wieder eine FLINTA+ Kneipe im AJZ. Juhu! Und zwar: jede
 n 2. und 4. Dienstag im Monat. In die FLINTA+ Kneipe sind Frauen\, Lesben\
 , inter*\, nicht-binäre\, trans* und agender Personen eingeladen – also
  quasi alle\, außer dyadische cis Männer. Wenn du dir nicht sicher bist\
 , ob das hier der richtige Ort für dich ist\, ist es wahrscheinlich der r
 ichtige Ort – probier’s aus\, du bist willkommen! Komm gern vorbei und
  sprich uns an\, wenn du Fragen hast. :)\n\nWas: Food\, Drinks\, Musik (me
 istens)\nWo: AJZ\, Heeper Straße 132\, 33607 Bielefeld\nWann: ab 19.30\, 
 jeden 2. und 4. Dienstag im Monat\n\nBitte kommt tagesaktuell schnellgetes
 tet. Die Anzahl der Besucher*innen ist wegen Corona auf 50 begrenzt.\n\n--
 \n\nThere is a FLINTA+ bar at the AJZ again. Yay! And that is: every 2nd a
 nd 4th Tuesday of the month. The FLINTA+ bar is open to women\, lesbians\,
  inter*\, non-binary\, trans* and agender people - basically everyone exce
 pt dyadic cis men. If you're not sure if this is the right place for you\,
  it probably is - try it out\, you're welcome! Feel free to come by and ta
 lk to us if you have any questions. :)\nThe AJZ courtyard and toilet are a
 ccessible at ground level and without steps.\n\nWhat: Food\, drinks\, musi
 c (mostly)\nWhere: AJZ\, Heeper Straße 132\, 33607 Bielefeld\, Germany\nW
 hen: from 7.30 pm\, every 2nd and 4th Tuesday of the month\n\nPlease make 
 a rapid antigen test before coming. The number of visitors is limited to a
  maximum of 50 people because of corona
ATTACH;FMTTYPE=image/jpeg:https://www.lilabi.net/wp-content/uploads/2022/0
 5/photo5215170769837997121.jpg
LOCATION:AJZ Bielefeld\, Heeper Str. 132\, 33607 Bielefeld\, Deutschland
X-APPLE-STRUCTURED-LOCATION;VALUE=URI;X-ADDRESS=Heeper Str. 132\, 33607 Bie
 lefeld\, Deutschland;X-APPLE-RADIUS=100;X-TITLE=AJZ Bielefeld:geo:0,0
END:VEVENT
BEGIN:VTIMEZONE
TZID:Europe/Berlin
X-LIC-LOCATION:Europe/Berlin
BEGIN:DAYLIGHT
DTSTART:20220327T030000
TZOFFSETFROM:+0100
TZOFFSETTO:+0200
TZNAME:CEST
END:DAYLIGHT
END:VTIMEZONE
END:VCALENDAR