BEGIN:VCALENDAR
VERSION:2.0
PRODID:-//wp-events-plugin.com//7.2.3.1//EN
TZID:Europe/Berlin
X-WR-TIMEZONE:Europe/Berlin
BEGIN:VEVENT
UID:4485@lilabi.net
DTSTART;TZID=Europe/Berlin:20221213T193000
DTEND;TZID=Europe/Berlin:20221213T235900
DTSTAMP:20221207T112429Z
URL:https://www.lilabi.net/events/flinta-kneipe-siebdruck-special/
SUMMARY:FLINTA+ Kneipe Siebdruck Special
DESCRIPTION:\n\n\n\n\n\n\nWas: Mukke\, Glühwein + Punsch &amp\; Siebdruck 
 - bringt gerne eigene Klamotten zum Bedrucken mit\, sonst ist auch was da 
 :)\n\nIn die FLINTA+ Kneipe sind Frauen\, Lesben\, inter*\, nicht-binäre\
 , trans* und agender Personen eingeladen – also quasi alle\, außer dyad
 ische cis Männer. Wenn du dir nicht sicher bist\, ob das hier der richtig
 e Ort für dich ist\, ist es wahrscheinlich der richtige Ort – probier
 ’s aus\, du bist willkommen!\n\nKomm gern vorbei und sprich uns an\, wen
 n du Fragen hast. :)\n\n\nKommt wenn möglich tagesaktuell schnellgetestet
 . Sonst gibt es aber auch Schnelltests vor Ort!\n\n\n\n\n\n\n\n\n
ATTACH;FMTTYPE=image/jpeg:https://www.lilabi.net/wp-content/uploads/2022/1
 2/adc924d2-8c29-47fa-807f-20ffd8c6b267.jpg
CATEGORIES:Kneipe
LOCATION:AJZ Bielefeld\, Heeper Str. 132\, 33607 Bielefeld\, Deutschland
X-APPLE-STRUCTURED-LOCATION;VALUE=URI;X-ADDRESS=Heeper Str. 132\, 33607 Bie
 lefeld\, Deutschland;X-APPLE-RADIUS=100;X-TITLE=AJZ Bielefeld:geo:0,0
END:VEVENT
BEGIN:VTIMEZONE
TZID:Europe/Berlin
X-LIC-LOCATION:Europe/Berlin
BEGIN:STANDARD
DTSTART:20221030T020000
TZOFFSETFROM:+0200
TZOFFSETTO:+0100
TZNAME:CET
END:STANDARD
END:VTIMEZONE
END:VCALENDAR