BEGIN:VCALENDAR
VERSION:2.0
PRODID:-//wp-events-plugin.com//7.2.3.1//EN
TZID:Europe/Berlin
X-WR-TIMEZONE:Europe/Berlin
BEGIN:VEVENT
UID:5612@lilabi.net
DTSTART;TZID=Europe/Berlin:20240419T190000
DTEND;TZID=Europe/Berlin:20240419T230000
DTSTAMP:20240407T081903Z
URL:https://www.lilabi.net/events/flaternative-vol-7-bellyacher-goodbye-ol
 d-me-oceansides-knifebreath/
SUMMARY:Flaternative vol. 7: BELLYACHER + GOODBYE\, OLD ME + OCEANSIDES + K
 NIFEBREATH
DESCRIPTION:Flaternative Vol. 7\n\nWie ihr es wohl mitbekommen habt\, haben
  wir 2024 sehr viel geplant und haben natürlich auch einen speziellen Fok
 us auf die Emo-Veranstaltungen gelegt.\n\nIn der 7. Ausgabe der Flaternati
 ve-Reihe spielen für euch:\n\n@bellyacherband (90ies emocore/indie-punk)\
 n@goodbye_old_me_musik (two-stepping post-hc)\n@oceansides_music (pushpit 
 emo-poppunk)\n@knife_breath (emo-punk a la duesenjaeger)\n\nLasst euch von
  Indie-Punk sounds beschallen\, mosht zu two-step HC und Pop-punk parts un
 d habt einfach spaß zu emotionaler Musik!\n\nWann? 19.04.2024\nUm? Doors:
  19:00 / Start: 20:00\nWo: @sz_flafla Diebrocker Str. 2
ATTACH;FMTTYPE=image/jpeg:https://www.lilabi.net/wp-content/uploads/2024/0
 4/IMG_7847.jpeg
CATEGORIES:DIY,Konzert
LOCATION:FLA FLA Herford\, Diebrockerstr. 2\, Herford\, Nordrhein-Westfalen
 \, 32051\, Kreis Herford\, Odtwestfalen-Lippe\, Deutschland
X-APPLE-STRUCTURED-LOCATION;VALUE=URI;X-ADDRESS=Diebrockerstr. 2\, Herford\
 , Nordrhein-Westfalen\, 32051\, Kreis Herford\, Odtwestfalen-Lippe\, Deuts
 chland;X-APPLE-RADIUS=100;X-TITLE=FLA FLA Herford:geo:0,0
END:VEVENT
BEGIN:VTIMEZONE
TZID:Europe/Berlin
X-LIC-LOCATION:Europe/Berlin
BEGIN:DAYLIGHT
DTSTART:20240331T030000
TZOFFSETFROM:+0100
TZOFFSETTO:+0200
TZNAME:CEST
END:DAYLIGHT
END:VTIMEZONE
END:VCALENDAR