BEGIN:VCALENDAR
VERSION:2.0
PRODID:-//wp-events-plugin.com//7.2.3.1//EN
TZID:Europe/Berlin
X-WR-TIMEZONE:Europe/Berlin
BEGIN:VEVENT
UID:5672@lilabi.net
DTSTART;TZID=Europe/Berlin:20240629T180000
DTEND;TZID=Europe/Berlin:20240629T230000
DTSTAMP:20240520T182153Z
URL:https://www.lilabi.net/events/flalternative-presents-yaamc-absb-pluto-
 the-racer-zaf/
SUMMARY:FLALTERNATIVE PRESENTS: YAAMC + ABSB + PLUTO THE RACER + ZAF
DESCRIPTION:FLATERNATIVE VOL. 11\n\nFor this iteration of Flaternative\, we
  catched two of the biggest growing emo/screamo bands in the game right no
 w! Both Awakebutstillinbed and yourarmsaremycocoon are having their first 
 EU/UK tour and are making a stop in Herford on Saturday\, 29.06.2024\n\n&n
 bsp\;\n\nTix available: flacore.bigcartel.com
ATTACH;FMTTYPE=image/jpeg:https://www.lilabi.net/wp-content/uploads/2024/0
 5/image3.jpg
CATEGORIES:Konzert
LOCATION:FLA FLA Herford\, Diebrocker Straße 2\, 32051 Herford\, Deutschla
 nd
X-APPLE-STRUCTURED-LOCATION;VALUE=URI;X-ADDRESS=Diebrocker Straße 2\, 3205
 1 Herford\, Deutschland;X-APPLE-RADIUS=100;X-TITLE=FLA FLA Herford:geo:0,0
END:VEVENT
BEGIN:VTIMEZONE
TZID:Europe/Berlin
X-LIC-LOCATION:Europe/Berlin
BEGIN:DAYLIGHT
DTSTART:20240331T030000
TZOFFSETFROM:+0100
TZOFFSETTO:+0200
TZNAME:CEST
END:DAYLIGHT
END:VTIMEZONE
END:VCALENDAR