BEGIN:VCALENDAR
VERSION:2.0
PRODID:-//wp-events-plugin.com//7.2.3.1//EN
TZID:Europe/Berlin
X-WR-TIMEZONE:Europe/Berlin
BEGIN:VEVENT
UID:5671@lilabi.net
DTSTART;TZID=Europe/Berlin:20240619T180000
DTEND;TZID=Europe/Berlin:20240619T223000
DTSTAMP:20240520T182146Z
URL:https://www.lilabi.net/events/flacore-presents-faced-out-grayout-2/
SUMMARY:FLACORE PRESENTS: FACED OUT + GRAYOUT
DESCRIPTION:Flacorebooking presents:\n\n&nbsp\;\n\nIndonesians most popular
 : BURGERKILL\n\nExciting Thrash-/Deathmetal Hardcore crossover since the 9
 0ies\n\nUsually playing festivals\, they make a stop at FLAFLA\n\n&nbsp\;\
 n\nSupported by our friends Bielefeld newcomer moshing post-hardcore band 
 TEEGARTEN\n\n&nbsp\;\n\nTiox at doors only\n\n&nbsp\;\n\n19.06.2024\n\nSZ 
 FLAFLA\n\nDiebrocker Str. 2\n\n32051 Herford
ATTACH;FMTTYPE=image/jpeg:https://www.lilabi.net/wp-content/uploads/2024/0
 5/image2.jpg
CATEGORIES:Konzert
LOCATION:FLA FLA Herford\, Diebrocker Straße 2\, 32051 Herford\, Deutschla
 nd
X-APPLE-STRUCTURED-LOCATION;VALUE=URI;X-ADDRESS=Diebrocker Straße 2\, 3205
 1 Herford\, Deutschland;X-APPLE-RADIUS=100;X-TITLE=FLA FLA Herford:geo:0,0
END:VEVENT
BEGIN:VTIMEZONE
TZID:Europe/Berlin
X-LIC-LOCATION:Europe/Berlin
BEGIN:DAYLIGHT
DTSTART:20240331T030000
TZOFFSETFROM:+0100
TZOFFSETTO:+0200
TZNAME:CEST
END:DAYLIGHT
END:VTIMEZONE
END:VCALENDAR