BEGIN:VCALENDAR
VERSION:2.0
PRODID:-//wp-events-plugin.com//7.2.3.1//EN
TZID:Europe/Berlin
X-WR-TIMEZONE:Europe/Berlin
BEGIN:VEVENT
UID:5617@lilabi.net
DTSTART;TZID=Europe/Berlin:20240625T183000
DTEND;TZID=Europe/Berlin:20240625T220000
DTSTAMP:20240407T081904Z
URL:https://www.lilabi.net/events/flacore-presents-death-before-dishonor-t
 ime-x-heist-weak-ties/
SUMMARY:FLACORE PRESENTS: DEATH BEFORE DISHONOR + TIME X HEIST + WEAK TIES
DESCRIPTION:Flacore lädt euch ein zur einer sehr krassen Hardcore\nShow.\n
 Mit dabei sind @deathbeforedishonorbhc aus Boston @timexheist aus Denver u
 nd @weaktiesband aus Bielefeld\nMacht euch bereit auf geballte Hardcore/Ha
 rdcore Punk\nMusik!\nWann: 25.06.2024\nDoors: 18:30\nMosh: 19:30\nGrosses 
 Dankeschön an @julias_ceasarsalad für den Flyer!\nBig Shoutout!\nDanke a
 n Stronger Bookings für's kooperieren.\n@sz_flafla @flarotzerbooking @fai
 rticken @kulturgruppe_bielefeld @kulturherford\n@jugendantifaherford @nopo
 pmag@schweichelnrockcity\n@kulturbeutel.herford\nHerford Hardcore\n#hc #hx
 c #punk #punx #metal #live #pit #dance #hardcorepunk #core #metalcore #bea
 tdown
ATTACH;FMTTYPE=image/jpeg:https://www.lilabi.net/wp-content/uploads/2024/0
 4/IMG_7852.jpeg
CATEGORIES:DIY,Konzert
LOCATION:FLA FLA Herford\, Diebrockerstr. 2\, Herford\, Nordrhein-Westfalen
  \, 32051\, Kreis Herford\, Ostwestfalen-Lippe\, Deutschland
X-APPLE-STRUCTURED-LOCATION;VALUE=URI;X-ADDRESS=Diebrockerstr. 2\, Herford\
 , Nordrhein-Westfalen \, 32051\, Kreis Herford\, Ostwestfalen-Lippe\, Deut
 schland;X-APPLE-RADIUS=100;X-TITLE=FLA FLA Herford:geo:0,0
END:VEVENT
BEGIN:VTIMEZONE
TZID:Europe/Berlin
X-LIC-LOCATION:Europe/Berlin
BEGIN:DAYLIGHT
DTSTART:20240331T030000
TZOFFSETFROM:+0100
TZOFFSETTO:+0200
TZNAME:CEST
END:DAYLIGHT
END:VTIMEZONE
END:VCALENDAR