BEGIN:VCALENDAR
VERSION:2.0
PRODID:-//wp-events-plugin.com//7.2.3.1//EN
TZID:Europe/Berlin
X-WR-TIMEZONE:Europe/Berlin
BEGIN:VEVENT
UID:4954@lilabi.net
DTSTART;TZID=Europe/Berlin:20240310T190000
DTEND;TZID=Europe/Berlin:20240310T190000
DTSTAMP:20240218T144403Z
URL:https://www.lilabi.net/events/flacore-out-of-disorder-ever-grove-jumpc
 ut-hardcore-punk/
SUMMARY:FLACORE: Out Of Disorder + Ever Grove + Jumpcut ( Hardcore-Punk)
DESCRIPTION:Der März wird voll!\n\nNach dem Redfall Fest haben wir ein kle
 ines Konzert für euch vorbereitet. Unsere Freunde von Out of Disorder (@o
 utofdisorder.hc )\, Ever Grove (@evergroveband ) und Jumpcut (@jumpcut.hc 
 ) besuchen uns auf einen schönen Sonntag Abend. Es wird herzlich\, schnel
 l und schön!\n\nDanke\, dass wir euch da haben dürfen:). Und danke an @b
 raunosja für den wunderschönen Flyer!\n\nHerford ⚔️ Hardcore\n\n#hf 
 #hc #hfhc #fla #flacore #mosh #music #live #dance #put #metal #metalcore #
 punk #punx #vibe #pb #pbhc #rts #redfall #hardcorepunk #herford #bielefeld
ATTACH;FMTTYPE=image/jpeg:https://www.lilabi.net/wp-content/uploads/2024/0
 2/awfaqgt2.png
CATEGORIES:DIY,Konzert,Party
LOCATION:FLA FLA Herford\, Diebrocker Straße 2\, 32051 Herford\, Deutschla
 nd
X-APPLE-STRUCTURED-LOCATION;VALUE=URI;X-ADDRESS=Diebrocker Straße 2\, 3205
 1 Herford\, Deutschland;X-APPLE-RADIUS=100;X-TITLE=FLA FLA Herford:geo:0,0
END:VEVENT
BEGIN:VTIMEZONE
TZID:Europe/Berlin
X-LIC-LOCATION:Europe/Berlin
BEGIN:STANDARD
DTSTART:20231029T020000
TZOFFSETFROM:+0200
TZOFFSETTO:+0100
TZNAME:CET
END:STANDARD
END:VTIMEZONE
END:VCALENDAR