BEGIN:VCALENDAR
VERSION:2.0
PRODID:-//wp-events-plugin.com//7.2.3.1//EN
TZID:Europe/Berlin
X-WR-TIMEZONE:Europe/Berlin
BEGIN:VEVENT
UID:4956@lilabi.net
DTSTART;TZID=Europe/Berlin:20240302T190000
DTEND;TZID=Europe/Berlin:20240302T234500
DTSTAMP:20240218T144339Z
URL:https://www.lilabi.net/events/flacore-necklock-tigerknife-nl-trust-us-
 were-liars-slab-strike-hardcore-punk/
SUMMARY:FLACORE: Necklock + Tigerknife (NL) + Trust us we*re Liars + Slab S
 trike ( Hardcore-Punk)
DESCRIPTION:Der März wird wild\, eingeleitet mit diesem Broken an Konzert.
  Unsere Freunde von Neck Lock und Tigerknife spielen zusammen mit Trust us
  we're liars und Slabstrike bei uns in der Venue. Es wird riffig und gut!\
 n\nKommt vorbei und supportet Bands abseits von großen Headlinern!\n\n@ju
 lias_ceasarsalad macht die besten Flyer!!!\n\nHerford ⚔️ Hardcore\n\n
 #hc #hxc #punk #punx #metal #live #pit #dance #necklock #holland
  #hardcorepunk #core #metalcore #beatdown #headbang
CATEGORIES:DIY,Konzert,Party
LOCATION:FLA FLA Herford\, Diebrocker Straße 2\, 32051 Herford\, Deutschla
 nd
X-APPLE-STRUCTURED-LOCATION;VALUE=URI;X-ADDRESS=Diebrocker Straße 2\, 3205
 1 Herford\, Deutschland;X-APPLE-RADIUS=100;X-TITLE=FLA FLA Herford:geo:0,0
END:VEVENT
BEGIN:VTIMEZONE
TZID:Europe/Berlin
X-LIC-LOCATION:Europe/Berlin
BEGIN:STANDARD
DTSTART:20231029T020000
TZOFFSETFROM:+0200
TZOFFSETTO:+0100
TZNAME:CET
END:STANDARD
END:VTIMEZONE
END:VCALENDAR