BEGIN:VCALENDAR
VERSION:2.0
PRODID:-//wp-events-plugin.com//7.2.3.1//EN
TZID:Europe/Berlin
X-WR-TIMEZONE:Europe/Berlin
BEGIN:VEVENT
UID:3738@lilabi.net
DTSTART;TZID=Europe/Berlin:20220611T150000
DTEND;TZID=Europe/Berlin:20220611T183000
DTSTAMP:20220530T125137Z
URL:https://www.lilabi.net/events/first-pride-was-a-riot-queerfemistischer
 -block-beim-csd-bielefeld/
SUMMARY:FIRST PRIDE WAS A RIOT - Queerfemistischer Block beim CSD Bielefeld
DESCRIPTION:FIRST PRIDE WAS A RIOT - Queerfemistischer Block beim CSD Biele
 feld\n\nAm 11. Juni gibt es in Bielefeld wieder einen großen CSD. Wir lad
 en alle ein Teil unseres queerfeministischen Blocks zu werden. Wir gehen a
 uf die Straße\, um gegen den rassistischen und queerfeindlichen Normalzus
 tand und Polizeitgewalt zu demonstrieren.
ATTACH;FMTTYPE=image/jpeg:https://www.lilabi.net/wp-content/uploads/2022/0
 5/2022-CSD_skaliert.png
CATEGORIES:Demo
LOCATION:Bielefeld Rathausplatz\, Niederwall 23\, Bielefeld 33602\, Deutsch
 land
X-APPLE-STRUCTURED-LOCATION;VALUE=URI;X-ADDRESS=Niederwall 23\, Bielefeld 3
 3602\, Deutschland;X-APPLE-RADIUS=100;X-TITLE=Bielefeld Rathausplatz:geo:0
 ,0
END:VEVENT
BEGIN:VTIMEZONE
TZID:Europe/Berlin
X-LIC-LOCATION:Europe/Berlin
BEGIN:DAYLIGHT
DTSTART:20220327T030000
TZOFFSETFROM:+0100
TZOFFSETTO:+0200
TZNAME:CEST
END:DAYLIGHT
END:VTIMEZONE
END:VCALENDAR