BEGIN:VCALENDAR
VERSION:2.0
PRODID:-//wp-events-plugin.com//7.2.3.1//EN
TZID:Europe/Berlin
X-WR-TIMEZONE:Europe/Berlin
BEGIN:VEVENT
UID:4698@lilabi.net
DTSTART;TZID=Europe/Berlin:20230326T120000
DTEND;TZID=Europe/Berlin:20230326T130000
DTSTAMP:20230318T113208Z
URL:https://www.lilabi.net/events/finissage-thinking-about-barbara-sawczyn
 -a-tribute-to-a-serious-woman-wuerdigung-einer-besonderen-frau/
SUMMARY:Finissage „thinking about Barbara Sawczyn // a tribute to a serio
 us woman Würdigung einer besonderen Frau“
DESCRIPTION:26. März\, 12 Uhr // Finissage„thinking about Barbara Sawczy
 n // a tribute to a serious womanWürdigung einer besonderen Frau“versch
 lepptBei der Finissage soll es – ergänzend zur Würdigung Barbara Sawcz
 yns – um die Zwangsarbeit gehen\, wie sie während des Zweiten Weltkrieg
 s hier in Bielefeld vor sich ging\, um das Schicksal der Zwangsarbeiter*in
 nen nach der Befreiung 1945 und neue Verbindungen ehemaliger Zwangsarbeite
 r*innen nach Bielefeld\, die später entstanden sind. Die Finissage findet
  in Zusammenarbeit mit dem Arbeitskreis „Zwangsarbeit in Bielefeld“ st
 att.Die Installation von Raphaela Kula ist seit dem 5. März in der Süste
 rkirche zu sehen.
CATEGORIES:Gedenkveranstaltung
END:VEVENT
BEGIN:VTIMEZONE
TZID:Europe/Berlin
X-LIC-LOCATION:Europe/Berlin
BEGIN:DAYLIGHT
DTSTART:20230326T030000
TZOFFSETFROM:+0100
TZOFFSETTO:+0200
TZNAME:CEST
END:DAYLIGHT
END:VTIMEZONE
END:VCALENDAR