BEGIN:VCALENDAR
VERSION:2.0
PRODID:-//wp-events-plugin.com//7.2.3.1//EN
TZID:Europe/Berlin
X-WR-TIMEZONE:Europe/Berlin
BEGIN:VEVENT
UID:4834@lilabi.net
DTSTART;TZID=Europe/Berlin:20231017T190000
DTEND;TZID=Europe/Berlin:20231017T210000
DTSTAMP:20231005T121905Z
URL:https://www.lilabi.net/events/filmvorfuehrung-geschichten-des-gelingen
 s-gelebte-alternativen-fuer-eine-zukunftsfaehige-welt/
SUMMARY:Filmvorführung: Geschichten des Gelingens. Gelebte Alternativen f
 ür eine zukunftsfähige Welt
DESCRIPTION:Wir leben in Gesellschaften\, die mit multiplen sozialen\, öko
 logischen sowie politischen und wirtschaftlichen Krisen konfrontiert sind.
  Gleichzeitig praktizieren oder erproben bereits viele Menschen weltweit a
 lternative Formen des Lebens und Wirtschaftens\, die weniger auf Kosten an
 derer Menschen und/oder der Umwelt gehen. Sie zeigen im Kleineren und im G
 rößeren auf\, dass sozial gerechtere und ökologisch nachhaltigere Welte
 n\, in denen wir alle gut leben können\, möglich sind. In neun prämiert
 en Kurzfilmen des internationalen Kurzfilmwettbewerbs „Geschichten des G
 elingens. Gelebte Alternativen für eine zukunftsfähige Welt“ werden di
 ese Geschichten sichtbar gemacht.\n\nIm Anschluss an die Präsentation der
  Kurzfilme laden die Initiatorinnen des Kurzfilmwettbewerbes sowie die Fil
 memacherin des Films „Ni En More“ zu einem Gespräch über die Filme e
 in.\n\nDer Wettbewerb wurde vom Welthaus Bielefeld in Kooperation mit dem 
 unter anderem an der Universität Bielefeld angesiedelten CALAS und dem »
 Museo de Ciencias Ambientales« im Rahmen des »Internationalen Filmfestiv
 als von Guadalajara« in Mexiko ausgerufen. Auf dem Filmfestival von Guada
 lajara wurden die Filme prämiert und sind jetzt erstmalig in Deutschland 
 (mit Untertiteln) im Kino zu sehen.\n\nEintritt: 5 Euro
ATTACH;FMTTYPE=image/jpeg:https://www.lilabi.net/wp-content/uploads/2023/1
 0/Kamera.png
CATEGORIES:Austausch/Vernetzung,Film
LOCATION:Kamera Filmkunsttheater\, Feilenstraße 4\, Bielefeld\, Deutschlan
 d
X-APPLE-STRUCTURED-LOCATION;VALUE=URI;X-ADDRESS=Feilenstraße 4\, Bielefeld
 \, Deutschland;X-APPLE-RADIUS=100;X-TITLE=Kamera Filmkunsttheater:geo:0,0
END:VEVENT
BEGIN:VTIMEZONE
TZID:Europe/Berlin
X-LIC-LOCATION:Europe/Berlin
BEGIN:DAYLIGHT
DTSTART:20230326T030000
TZOFFSETFROM:+0100
TZOFFSETTO:+0200
TZNAME:CEST
END:DAYLIGHT
END:VTIMEZONE
END:VCALENDAR