BEGIN:VCALENDAR
VERSION:2.0
PRODID:-//wp-events-plugin.com//7.2.3.1//EN
TZID:Europe/Berlin
X-WR-TIMEZONE:Europe/Berlin
BEGIN:VEVENT
UID:6216@lilabi.net
DTSTART;TZID=Europe/Berlin:20250627T190000
DTEND;TZID=Europe/Berlin:20250627T210000
DTSTAMP:20250606T210118Z
URL:https://www.lilabi.net/events/filmvorfuehrung-deckname-jenny/
SUMMARY:Filmvorführung: Deckname Jenny
DESCRIPTION:DECKNAME JENNY 108 Minuten: Regie/Drehbuch anwesend\n\nRechtsru
 ck\, Klimawandel\, Refugees ertrinken im Mittelmeer. Jennys Bande schaut n
 icht mehr zu. Und handelt. Als aber Jennys Vater deren militante Ambitione
 n herausfindet\, muss er sich seiner eigenen Vergangenheit als Mitglied ei
 ner Stadtguerillagruppe stellen. Die Geschichte der Revolutionären Zellen
 \, der Bewegung 2 Juni und der Roten Zora werden plötzlich wieder lebendi
 g. Zum Ärger der Bullen. Und nun wird es für alle Beteiligten eng...\n\n
 Eine Geschichte zwischen Liebe und Verrat\, Hoffnung und Resignation\, Wid
 erstand und Freundschaft.\n\nhochaktuell * generationsübergreifend * mit 
 Augenzwinkern * subversiv * anarchistisch * aus einem queeren &amp\; femin
 istischen Blickwinkel *\n\nFilmmusik: Guts Pie Earshot\n\nVeranstalterin: 
 akzent_in/ 27.06.25/ 19 Uhr/ AJZ Kino/ Heeper Straße 132/ nicht rolligere
 cht
CATEGORIES:Film
LOCATION:AJZ Bielefeld\, Heeper Str. 132\, 33607 Bielefeld\, Deutschland
X-APPLE-STRUCTURED-LOCATION;VALUE=URI;X-ADDRESS=Heeper Str. 132\, 33607 Bie
 lefeld\, Deutschland;X-APPLE-RADIUS=100;X-TITLE=AJZ Bielefeld:geo:0,0
END:VEVENT
BEGIN:VTIMEZONE
TZID:Europe/Berlin
X-LIC-LOCATION:Europe/Berlin
BEGIN:DAYLIGHT
DTSTART:20250330T030000
TZOFFSETFROM:+0100
TZOFFSETTO:+0200
TZNAME:CEST
END:DAYLIGHT
END:VTIMEZONE
END:VCALENDAR