BEGIN:VCALENDAR
VERSION:2.0
PRODID:-//wp-events-plugin.com//7.2.3.1//EN
TZID:Europe/Berlin
X-WR-TIMEZONE:Europe/Berlin
BEGIN:VEVENT
UID:6379@lilabi.net
DTSTART;TZID=Europe/Berlin:20250827T183000
DTEND;TZID=Europe/Berlin:20250827T210000
DTSTAMP:20250825T113811Z
URL:https://www.lilabi.net/events/filmreihe-iran-praesentiert-ich-maryam-d
 ie-kinder-und-26-weitere/
SUMMARY:Filmreihe Iran präsentiert: „Ich\, Maryam\, die Kinder und 26 we
 itere“
DESCRIPTION:Mahboubeh vermietet ihr Haus an ein Filmteam\, das ihr ruhiges 
 Leben auf den Kopf stellt. Fasziniert von der Gruppe und ihrem Kurzfilm be
 ginnt sie\, ihre eigene Vergangenheit zu reflektieren. Als der Dreh abgesc
 hlossen ist\, steht sie vor einer wegweisenden Entscheidung: Soll sie in i
 hrem gewohnten Leben bleiben – oder den Schritt in eine ungewisse\, aber
  vielleicht befreiende Zukunft wagen? Der Film wurde für seinen kritische
 n und ehrlichen Blick auf das gesellschaftliche Leben im Iran gelobt.\n(De
 utschland\, Tschechien\, Iran 2024)\nRegie: Farshad Hashemi\, 101 Minuten
 \nMit: Mahboube Gholami\, Farshad Hashemi\, Ebrahim Azizi\, Zahra Aghapour
 \, Navid Aghaei\nOriginalsprache Farsi mit deutschen Untertiteln.\nIm Ansc
 hluss findet ein Filmgespräch mit dem Regisseur Farshad Hashemi statt.\n-
  Eintritt frei -
ATTACH;FMTTYPE=image/jpeg:https://www.lilabi.net/wp-content/uploads/2025/0
 8/Film-klein.jpg
CATEGORIES:Film
LOCATION:Ravensberger Spinnerei\, Ravensberger Park 1\, Bielefeld\, 33607\,
  Deutschland
X-APPLE-STRUCTURED-LOCATION;VALUE=URI;X-ADDRESS=Ravensberger Park 1\, Biele
 feld\, 33607\, Deutschland;X-APPLE-RADIUS=100;X-TITLE=Ravensberger Spinner
 ei:geo:0,0
END:VEVENT
BEGIN:VTIMEZONE
TZID:Europe/Berlin
X-LIC-LOCATION:Europe/Berlin
BEGIN:DAYLIGHT
DTSTART:20250330T030000
TZOFFSETFROM:+0100
TZOFFSETTO:+0200
TZNAME:CEST
END:DAYLIGHT
END:VTIMEZONE
END:VCALENDAR