BEGIN:VCALENDAR
VERSION:2.0
PRODID:-//wp-events-plugin.com//7.2.3.1//EN
TZID:Europe/Berlin
X-WR-TIMEZONE:Europe/Berlin
BEGIN:VEVENT
UID:4833@lilabi.net
DTSTART;TZID=Europe/Berlin:20231116T180000
DTEND;TZID=Europe/Berlin:20231116T210000
DTSTAMP:20231005T121932Z
URL:https://www.lilabi.net/events/filmabend-mit-anschliessendem-gespraech-
 zum-film-beyond-the-intersection/
SUMMARY:Filmabend mit anschließendem Gespräch zum Film „Beyond the Inte
 rsection“
DESCRIPTION:Am Internationalen Tag der Toleranz laden wir zum Filmabend mit
  dem Film „Beyond the Intersection“ ein. Im Anschluss gibt es Gelegenh
 eit zu einem Filmgespräch mit Tina Adomako und dem Filmemacher Christoph 
 Felder.\n\nBeyond the Intersection erzählt die Geschichte einer binationa
 len Ehe\, einer Ehe zwischen Schwarz und Weiß. Die Geschichte einer Famil
 ie\, die auf mehreren Kontinenten lebt. Die unterschiedlichen Familienmitg
 lieder kommen zu Wort und erzählen aus ihrem Leben zwischen unterschiedli
 chen Kulturen und Welten. Über einen Zeitraum von mehreren Jahrzehnten 
 – von den 1950er Jahren bis heute - begleitet der Film die Adomakos auf 
 verschiedenen Stationen zwischen Wuppertal\, Düsseldorf\, London\, Accra\
 , Kumasi und weiteren Orten. Wie wurde die Familie in den 60ern Jahren ein
 em deutschen Fernsehpublikum präsentiert? Wie sah und sieht das Leben der
  Familie wirklich aus? Wie geht sie mit Rassismus um? Was hat sich über d
 ie Jahre verändert? Welche Vorteile und Herausforderung bringt ein Leben 
 Beyond the Intersection?\n\nAnmeldung nicht erforderlich.\n\nEintritt frei
 \, um Spende wird gebeten.
ATTACH;FMTTYPE=image/jpeg:https://www.lilabi.net/wp-content/uploads/2023/1
 0/Sharepic_bearbeitet.jpg
CATEGORIES:Austausch/Vernetzung,Film
LOCATION:Volkshochschule Bielefeld\, Murnausaal\, Ravensberger Park 1\, Bie
 lefeld\, Deutschland
X-APPLE-STRUCTURED-LOCATION;VALUE=URI;X-ADDRESS=Ravensberger Park 1\, Biele
 feld\, Deutschland;X-APPLE-RADIUS=100;X-TITLE=Volkshochschule Bielefeld\, 
 Murnausaal:geo:0,0
END:VEVENT
BEGIN:VTIMEZONE
TZID:Europe/Berlin
X-LIC-LOCATION:Europe/Berlin
BEGIN:STANDARD
DTSTART:20231029T020000
TZOFFSETFROM:+0200
TZOFFSETTO:+0100
TZNAME:CET
END:STANDARD
END:VTIMEZONE
END:VCALENDAR