BEGIN:VCALENDAR
VERSION:2.0
PRODID:-//wp-events-plugin.com//7.2.3.1//EN
TZID:Europe/Berlin
X-WR-TIMEZONE:Europe/Berlin
BEGIN:VEVENT
UID:7012@lilabi.net
DTSTART;TZID=Europe/Berlin:20260424T190000
DTEND;TZID=Europe/Berlin:20260424T210000
DTSTAMP:20260416T164035Z
URL:https://www.lilabi.net/events/filmabend-im-fau-lokal/
SUMMARY:Filmabend im FAU-Lokal
DESCRIPTION: Schwarzer Freitag: \n\nFilmabend im FAU-Lokal \n\nDer heutige
  Film spielt zur Zeit des Faschismus: Ein italienischer Bauer  kommt nach
  Rom\, um den faschistischen Diktator Mussolini ins Jenseits zu befördern
 . Damit will er seinem von der italienischen Polizei getöteten anarchisti
 schen Freund einen letzten Freundschaftsdienst erweisen.\n\nDer Film ist e
 ine Mischung aus romantischer Oper und politischer Satire.\n\nOrt: FAU-Lok
 al\, Metzer Straße 20\, 33607 Bielefeld. \n\n- Eintritt frei -\n\n&nbsp\;
ATTACH;FMTTYPE=image/jpeg:https://www.lilabi.net/wp-content/uploads/2026/0
 4/Logo3.jpg
CATEGORIES:Film
LOCATION:FAU-Lokal\, Metzer Straße 20\, Bielefeld\, Deutschland
X-APPLE-STRUCTURED-LOCATION;VALUE=URI;X-ADDRESS=Metzer Straße 20\, Bielefe
 ld\, Deutschland;X-APPLE-RADIUS=100;X-TITLE=FAU-Lokal:geo:0,0
END:VEVENT
BEGIN:VTIMEZONE
TZID:Europe/Berlin
X-LIC-LOCATION:Europe/Berlin
BEGIN:DAYLIGHT
DTSTART:20260329T030000
TZOFFSETFROM:+0100
TZOFFSETTO:+0200
TZNAME:CEST
END:DAYLIGHT
END:VTIMEZONE
END:VCALENDAR