BEGIN:VCALENDAR
VERSION:2.0
PRODID:-//wp-events-plugin.com//7.2.3.1//EN
TZID:Europe/Berlin
X-WR-TIMEZONE:Europe/Berlin
BEGIN:VEVENT
UID:3710@lilabi.net
DTSTART;TZID=Europe/Berlin:20220508T180000
DTEND;TZID=Europe/Berlin:20220508T193000
DTSTAMP:20220425T125100Z
URL:https://www.lilabi.net/events/filmabend-8-mai-1945-europas-vergessene-
 befreier/
SUMMARY:Filmabend: 8. Mai 1945 - Europas vergessene Befreier
DESCRIPTION:\n\nSeit 1945 herrschte in Europa weitestgehend Frieden. Vor we
 nigen Wochen noch konnten sich die wenigsten Menschen einen Krieg in Europ
 a vorstellen. Dass sich unsere Art zu leben\, unsere freiheitlich-demokrat
 ische Grundordnung nach 1945 durchsetzen konnte\, verdanken wir nicht nur 
 den damaligen Siegermächten. Rohstoffe und teils zwangsrekrutierte Soldat
 en aus den Kolonien leisteten auch einen wichtigen Beitrag zum Sieg über 
 Nationalsozialismus und Faschismus. Diese unterschlagene Geschichte\, die 
 globale Ungleichheiten weiter vergrößerte\, behandelt der Film  „8. M
 ai 1945 - Unsere Geschichte zählt“\, der von der Stadt Köln 2020 anlä
 sslich des 75. Gedenktags an die Befreiung Europas initiiert und finanzier
 t worden ist.\n\nGemeinsam mit Euch wollen wir in die Geschichte blicken\,
  um die Gegenwart besser verstehen und für die Zukunft lernen zu können.
  Wir freuen uns auf Eure Fragen und Diskussionsbeiträge!\n\nVeranstalter:
  Eine Welt Netz NRW\, IBZ Friedenshaus\, Welthaus Bielefeld\, Bezirksjugen
 dwerk der AWO OWL und Decolonize Bielefeld\n\nAnmeldung über das Jugendwe
 rk der AWO.\n\nDie Veranstaltung ist kostenlos. Es gelten die 3G-Regelunge
 n.\n\n
CATEGORIES:Film
LOCATION:Grüner Würfel\, Bistro Keimzeit im Erdgeschoss\, Kesselbrink 2\,
  33602 Bielefeld\, Bielefeld\, Deutschland
X-APPLE-STRUCTURED-LOCATION;VALUE=URI;X-ADDRESS=Kesselbrink 2\, 33602 Biele
 feld\, Bielefeld\, Deutschland;X-APPLE-RADIUS=100;X-TITLE=Grüner Würfel\
 , Bistro Keimzeit im Erdgeschoss:geo:0,0
END:VEVENT
BEGIN:VTIMEZONE
TZID:Europe/Berlin
X-LIC-LOCATION:Europe/Berlin
BEGIN:DAYLIGHT
DTSTART:20220327T030000
TZOFFSETFROM:+0100
TZOFFSETTO:+0200
TZNAME:CEST
END:DAYLIGHT
END:VTIMEZONE
END:VCALENDAR