BEGIN:VCALENDAR
VERSION:2.0
PRODID:-//wp-events-plugin.com//7.2.3.1//EN
TZID:Europe/Berlin
X-WR-TIMEZONE:Europe/Berlin
BEGIN:VEVENT
UID:4713@lilabi.net
DTSTART;TZID=Europe/Berlin:20230428T180000
DTEND;TZID=Europe/Berlin:20230428T193000
DTSTAMP:20230404T123540Z
URL:https://www.lilabi.net/events/filmabend-8-mai-1945-europas-vergessene-
 befreier-2/
SUMMARY:Filmabend: 8. Mai 1945 - Europas vergessene Befreier
DESCRIPTION:Seit 1945 herrschte in Europa weitestgehend Frieden. Bis Februa
 r 2022 konnten sich die wenigsten Menschen einen Krieg in Europa vorstelle
 n. Dass sich unsere Art zu leben\, unsere freiheitlich-demokratische Grund
 ordnung nach 1945 durchsetzen konnte\, verdanken wir nicht nur den damalig
 en Siegermächten. Rohstoffe und teils zwangsrekrutierte Soldaten aus den 
 Kolonien leisteten auch einen wichtigen Beitrag zum Sieg über Nationalsoz
 ialismus und Faschismus. Diese unterschlagene Geschichte\, die globale Ung
 leichheiten weiter vergrößerte\, behandelt der Film „8. Mai 1945 - Uns
 ere Geschichte zählt“\, der von der Stadt Köln 2020 anlässlich des 75
 . Gedenktags an die Befreiung Europas initiiert und finanziert worden ist.
 \n\n&nbsp\;\n\nGemeinsam mit Ihnen / Euch wollen wir in die Geschichte bli
 cken\, um die Gegenwart besser verstehen und für die Zukunft lernen zu k
 önnen. Wir freuen uns auf Ihre / Eure Fragen und Diskussionsbeiträge!\n\
 nTermin:\nFreitag\, 28. April 2023\, 18:00 bis ca. 19:30 Uhr\n\nVeranstalt
 er:\nEine Welt Netz NRW\, Volkshochschule Bielefeld\, Welthaus Bielefeld\,
  IBZ Friedenshaus\, Decolonize Bielefeld\n\nOrt:\nMurnau Saal der VHS Biel
 efeld (Ravensberger Park 1\, 33607 Bielefeld)\n\nKontakt:\nDr. Lara Esther
  Bartels\, lara.bartels@welthaus.de\; Serge Palasie serge.palasie@eine-wel
 t-netz-nrw.de\; Gerd Kurbjuhn\, Gerd.kurbjuhn@Bielefeld.de\n\nEintritt:\nk
 ostenlos\, um eine Spende wird gebeten\n\nEine Anmeldung ist nicht erforde
 rlich.
ATTACH;FMTTYPE=image/jpeg:https://www.lilabi.net/wp-content/uploads/2023/0
 4/Europas-vergessene-Befreier-2023.jpg
CATEGORIES:Aktionstage,Antiracism Festival,Film
END:VEVENT
BEGIN:VTIMEZONE
TZID:Europe/Berlin
X-LIC-LOCATION:Europe/Berlin
BEGIN:DAYLIGHT
DTSTART:20230326T030000
TZOFFSETFROM:+0100
TZOFFSETTO:+0200
TZNAME:CEST
END:DAYLIGHT
END:VTIMEZONE
END:VCALENDAR