BEGIN:VCALENDAR
VERSION:2.0
PRODID:-//wp-events-plugin.com//7.2.3.1//EN
TZID:Europe/Berlin
X-WR-TIMEZONE:Europe/Berlin
BEGIN:VEVENT
UID:5939@lilabi.net
DTSTART;TZID=Europe/Berlin:20250515T193000
DTEND;TZID=Europe/Berlin:20250515T210000
DTSTAMP:20250418T124248Z
URL:https://www.lilabi.net/events/film-und-diskussionsabend-die-macht-des-
 visums/
SUMMARY:Film- und Diskussionsabend \\\\\\\\\\\\\\"Die Macht des Visums\\\\\
 \\\\\\\\\"
DESCRIPTION:\n\nWir laden herzlich zum Film- und Diskussionsabend „Die Ma
 cht des Visums“ ein!\n\n\n\n\nDer 40-minütige Film von VisaWie e.V. aus
  dem Jahr 2024 erzählt die bewegende Geschichte eines binationalen Paares
 \, das nach drei abgelehnten Visa und mehreren Jahren Trennung endlich die
  Chance bekommt\, in Deutschland zusammenzuleben. Dabei deckt der Film mit
 hilfe von Expert*innen und Betroffenen aus verschiedenen Ländern die syst
 ematischen Ungerechtigkeiten und die menschliche Tragik auf\, die die deut
 sche Visavergabe mit sich bringt. Es wird deutlich\, wie diese Praxis nich
 t nur persönliche Schicksale\, sondern auch globale Machtverhältnisse wi
 derspiegelt.\n\nNach der Filmvorstellung gibt es Gelegenheit zum Austausch
  und Diskussion mit: Eine Welt Netz NRW e.V.\, Internationales Begegnungsz
 entrum ‘Friedenshaus’ e.V. \, Welthaus Bielefeld e.V. und Visa Wie e.V
 .\n\nDie Veranstaltung findet im Murnau-Saal in der VHS Bielefeld\, Ravens
 berger Park 1\, 33607 Bielefeld statt. Der Eintritt ist frei.\n\n
CATEGORIES:Diskussion,Film
LOCATION:Volkshochschule Bielefeld\, Murnausaal\, Ravensberger Park 1\, Bie
 lefeld\, Deutschland
X-APPLE-STRUCTURED-LOCATION;VALUE=URI;X-ADDRESS=Ravensberger Park 1\, Biele
 feld\, Deutschland;X-APPLE-RADIUS=100;X-TITLE=Volkshochschule Bielefeld\, 
 Murnausaal:geo:0,0
END:VEVENT
BEGIN:VTIMEZONE
TZID:Europe/Berlin
X-LIC-LOCATION:Europe/Berlin
BEGIN:DAYLIGHT
DTSTART:20250330T030000
TZOFFSETFROM:+0100
TZOFFSETTO:+0200
TZNAME:CEST
END:DAYLIGHT
END:VTIMEZONE
END:VCALENDAR