BEGIN:VCALENDAR
VERSION:2.0
PRODID:-//wp-events-plugin.com//7.2.3.1//EN
TZID:Europe/Berlin
X-WR-TIMEZONE:Europe/Berlin
BEGIN:VEVENT
UID:4458@lilabi.net
DTSTART;TZID=Europe/Berlin:20221114T193000
DTEND;TZID=Europe/Berlin:20221114T210000
DTSTAMP:20221110T172326Z
URL:https://www.lilabi.net/events/film-und-diskussion-geboren-in-ravensbru
 eck/
SUMMARY:Film und Diskussion: Geboren in Ravensbrück
DESCRIPTION:Der 2021 erschienene\, 45-minütige Dokumentarfilm schildert di
 e Geschichte eines der wenigen überlebenden im KZ geborenen Kinder. Am 1.
  Dezember 1943 kam Ingelore Prochnows Mutter\, im fünften Monat schwanger
  und gerade mal 19 Jahre alt\, ins Frauenkonzentrationslager Ravensbrück.
  Im April 1944 brachte sie Ingelore zur Welt.\n\nWie durch ein Wunder übe
 rlebte das Mädchen bis zur Befreiung im April 1945\, ihre Mutter allerdin
 gs wurde im Lager ermordet. Sie wuchs bei Adoptiveltern auf\, erfuhr erst 
 40 Jahre später von den Umständen ihrer Geburt und machte sich auf die S
 uche nach ihrer Geschichte. Es geht um fehlende Erinnerungen\, offene Frag
 en und das Erinnern ohne eigene Erinnerung.\n\nIngelore findet bis heute T
 rost und Anerkennung im Engagement um das Gedenken und den Treffen mit and
 eren Überlebenden und deren Angehörigen. Sie haderte lange mit ihrer Rol
 le als Überlebende\; fehlt ihr doch die eigene Erinnerung an das KZ. Inge
 lores Geschichte wird von ihr selbst erzählt\, setzt sich aus Fragmenten\
 , Dokumenten und Briefen für die ZuschauerInnen nach und nach zusammen.\n
 \nDie Regisseurin Jule von Hertell wird bei der Aufführung zugegen sein u
 nd freut sich über Fragen und eine Diskussion nach dem Film.\n\nMontag\, 
 14. November 2022\, 19.30 Uhr\, Capitol-Kino\, Eintritt frei\, Austritt er
 wünscht\n\nDer Dokumentarfilm "Geboren in Ravensbrück" wird im Rahmen de
 r Herforder Filmtage von der Fachstelle NRWeltoffen im Kreis Herford in Ko
 operation mit der Mobilen Beratung gegen Rechtsextremismus OWL gezeigt.\n\
 nWeitere Infos zum Film hier!
ATTACH;FMTTYPE=image/jpeg:https://www.lilabi.net/wp-content/uploads/2022/1
 1/ravensbrueck_post_förderlogos.jpg
CATEGORIES:Film
LOCATION:Herford Capitol Kino\, Elisabethstr. 1a\, Herford\, NRW\, 32052 \,
  Deutschland
X-APPLE-STRUCTURED-LOCATION;VALUE=URI;X-ADDRESS=Elisabethstr. 1a\, Herford\
 , NRW\, 32052 \, Deutschland;X-APPLE-RADIUS=100;X-TITLE=Herford Capitol Ki
 no:geo:0,0
END:VEVENT
BEGIN:VTIMEZONE
TZID:Europe/Berlin
X-LIC-LOCATION:Europe/Berlin
BEGIN:STANDARD
DTSTART:20221030T020000
TZOFFSETFROM:+0200
TZOFFSETTO:+0100
TZNAME:CET
END:STANDARD
END:VTIMEZONE
END:VCALENDAR