BEGIN:VCALENDAR
VERSION:2.0
PRODID:-//wp-events-plugin.com//7.2.3.1//EN
TZID:Europe/Berlin
X-WR-TIMEZONE:Europe/Berlin
BEGIN:VEVENT
UID:4875@lilabi.net
DTSTART;TZID=Europe/Berlin:20231102T190000
DTEND;TZID=Europe/Berlin:20231102T203000
DTSTAMP:20231101T163222Z
URL:https://www.lilabi.net/events/film-eine-studie-der-hoffnung/
SUMMARY:Film "Eine Studie der Hoffnung"
DESCRIPTION:Die im Vorkriegs-Kaunas lebende Kunst- und Deutschlehrerin Hele
 ne Holzman erleidet schmerzhafte familiäre Verluste \, als die Nationalso
 zialist:innen Kaunas in Litauen einnehmen. Nachdem sie ihre Hoffnungslosig
 keit überwindet\, beschließt sie\, nicht nur ihre jüngere Tochter Marga
 rete\, sondern auch so viele Menschen wie möglich aus dem Ghetto zu rette
 n. Es erzählen die Zeitzeuginnen dieser Ereignisse: die Tochter von Helen
 e Holzman\, und Fruma Vitkin-Kucinskiene\, das Mädchen\, das Helene Holzm
 an im Krieg gerettet hat. \n\nEine Veranstaltung der Antinationalen Linken
  Bielefeld (ALIBI)
ATTACH;FMTTYPE=image/jpeg:https://www.lilabi.net/wp-content/uploads/2023/1
 1/hoffnung.jpg
CATEGORIES:Film
LOCATION:AJZ Bielefeld\, Heeper Str. 132\, 33607 Bielefeld\, Deutschland
X-APPLE-STRUCTURED-LOCATION;VALUE=URI;X-ADDRESS=Heeper Str. 132\, 33607 Bie
 lefeld\, Deutschland;X-APPLE-RADIUS=100;X-TITLE=AJZ Bielefeld:geo:0,0
END:VEVENT
BEGIN:VTIMEZONE
TZID:Europe/Berlin
X-LIC-LOCATION:Europe/Berlin
BEGIN:STANDARD
DTSTART:20231029T020000
TZOFFSETFROM:+0200
TZOFFSETTO:+0100
TZNAME:CET
END:STANDARD
END:VTIMEZONE
END:VCALENDAR